BEGIN:VCALENDAR
VERSION:2.0
PRODID:-//Legal Aid of East Tennessee - ECPv6.15.20//NONSGML v1.0//EN
CALSCALE:GREGORIAN
METHOD:PUBLISH
X-WR-CALNAME:Legal Aid of East Tennessee
X-ORIGINAL-URL:https://www.laet.org
X-WR-CALDESC:Events for Legal Aid of East Tennessee
REFRESH-INTERVAL;VALUE=DURATION:PT1H
X-Robots-Tag:noindex
X-PUBLISHED-TTL:PT1H
BEGIN:VTIMEZONE
TZID:UTC
BEGIN:STANDARD
TZOFFSETFROM:+0000
TZOFFSETTO:+0000
TZNAME:UTC
DTSTART:20220101T000000
END:STANDARD
END:VTIMEZONE
BEGIN:VEVENT
DTSTART;TZID=UTC:20230731T110000
DTEND;TZID=UTC:20230731T130000
DTSTAMP:20260421T003832
CREATED:20230720T184430Z
LAST-MODIFIED:20230720T185219Z
UID:10000298-1690801200-1690808400@www.laet.org
SUMMARY:SEQUATCHIE COUNTY INTAKE - JUSTICE CENTER
DESCRIPTION:LEGAL AID OF EAST TENNESSEE\nWILL CONDUCT LOCAL CLIENT INTAKE INTERVIEW SESSIONS IN DUNLAP \nSequatchie County Chancery (Old) Courthouse \nMonday\, July 31\, 2023 \nBeginning at 11:00am CST \nLegal Aid of East Tennessee is a FREE service for low-income Tennesseans and\nsenior(60+) Tennesseans with civil (non-criminal) legal issues including\nconsumer\, housing\, veteran’s benefits and government benefits issues such a\nfood stamps\, unemployment benefits and TennCare. \nFor more information call:\nLegal Aid Chattanooga 423-756-4013 \nLegal Aid of East Tennessee\, Inc. is a nonprofit corporation funded by the Federal\nGovernment\, through the Legal Services Corporation\, the State of Tennessee\, and various\nother government and private grants and private contributions.
URL:https://www.laet.org/event/sequatchie-county-intake-justice-center-13/
ATTACH;FMTTYPE=image/png:https://www.laet.org/wp-content/uploads/2023/07/Flier-Sequatchie-4.png
END:VEVENT
BEGIN:VEVENT
DTSTART;TZID=UTC:20230809T120000
DTEND;TZID=UTC:20230809T140000
DTSTAMP:20260421T003832
CREATED:20221215T003824Z
LAST-MODIFIED:20221215T003824Z
UID:10000242-1691582400-1691589600@www.laet.org
SUMMARY:Free Legal Advice Clinic for Veterans
DESCRIPTION:Any veteran seeking legal help is encouraged to attend the Legal Advice Clinic for Veterans on August 9\, 2023\, from 12:00 p.m. to 2:00 p.m. \nVeterans who are not able to attend the clinic in person are encouraged to continue to use the telephone clinic option.  Preregistration is required for telephone clinic and veterans are asked to call Legal Aid of East Tennessee at (865)637-0484 to preregister. \nThis is a general advice clinic for a wide variety of legal issues\, including family law\, landlord/tenant\, bankruptcy\, criminal defense\, consumer protection\, contract disputes\, child support\, and personal injury\, among other issues.
URL:https://www.laet.org/event/free-legal-advice-clinic-for-veterans-20/
LOCATION:Knox County Public Defender’s Community Law Office\, 1101 Liberty Street\, Knoxville\, TN\, 37919
ATTACH;FMTTYPE=image/png:https://www.laet.org/wp-content/uploads/2022/12/Veterans-Clinic-600-x-600-4.png
END:VEVENT
BEGIN:VEVENT
DTSTART;TZID=UTC:20230905T150000
DTEND;TZID=UTC:20230905T160000
DTSTAMP:20260421T003832
CREATED:20221220T030710Z
LAST-MODIFIED:20221220T030710Z
UID:10000257-1693926000-1693929600@www.laet.org
SUMMARY:Executive Committee Meeting - Board of Directors
DESCRIPTION:
URL:https://www.laet.org/event/executive-committee-meeting-board-of-directors-7/
END:VEVENT
BEGIN:VEVENT
DTSTART;TZID=UTC:20230913T120000
DTEND;TZID=UTC:20230913T140000
DTSTAMP:20260421T003832
CREATED:20221215T001651Z
LAST-MODIFIED:20221215T001710Z
UID:10000238-1694606400-1694613600@www.laet.org
SUMMARY:Free Legal Advice Clinic for Veterans
DESCRIPTION:Any veteran seeking legal help is encouraged to attend the Legal Advice Clinic for Veterans on September 13\, 2023\, from 12:00 p.m. to 2:00 p.m. \nVeterans who are not able to attend the clinic in person are encouraged to continue to use the telephone clinic option.  Preregistration is required for telephone clinic and veterans are asked to call Legal Aid of East Tennessee at (865)637-0484 to preregister. \nThis is a general advice clinic for a wide variety of legal issues\, including family law\, landlord/tenant\, bankruptcy\, criminal defense\, consumer protection\, contract disputes\, child support\, and personal injury\, among other issues.
URL:https://www.laet.org/event/free-legal-advice-clinic-for-veterans-16/
LOCATION:Knox County Public Defender’s Community Law Office\, 1101 Liberty Street\, Knoxville\, TN\, 37919
ATTACH;FMTTYPE=image/png:https://www.laet.org/wp-content/uploads/2022/12/Veterans-Clinic-600-x-600-4.png
END:VEVENT
BEGIN:VEVENT
DTSTART;TZID=UTC:20230921T170000
DTEND;TZID=UTC:20230921T183000
DTSTAMP:20260421T003832
CREATED:20221214T235543Z
LAST-MODIFIED:20230104T191936Z
UID:10000156-1695315600-1695321000@www.laet.org
SUMMARY:Kingsport Bar Clinic
DESCRIPTION:General legal advice on civil matters (housing\, benefits\, taxes\, estate\, family\, property\, landlord/tenant\, contract\, etc.) \nThursday\, September 21\, 2023 \n5:00 pm to 6:30 pm \nVO Dobbins Community Center\, 301 Louis St\, Kingsport\, TN 37660
URL:https://www.laet.org/event/kingsport-bar-clinic-13/
ATTACH;FMTTYPE=image/png:https://www.laet.org/wp-content/uploads/2022/12/Kingsport-Bar-Clinic-600-x-600-8.png
END:VEVENT
BEGIN:VEVENT
DTSTART;TZID=UTC:20230928T150000
DTEND;TZID=UTC:20230928T160000
DTSTAMP:20260421T003832
CREATED:20221220T030537Z
LAST-MODIFIED:20221220T030537Z
UID:10000253-1695913200-1695916800@www.laet.org
SUMMARY:LAET Board of Directors Meeting
DESCRIPTION:
URL:https://www.laet.org/event/laet-board-of-directors-meeting-7/
END:VEVENT
BEGIN:VEVENT
DTSTART;TZID=UTC:20231006T170000
DTEND;TZID=UTC:20231006T200000
DTSTAMP:20260421T003832
CREATED:20230725T231538Z
LAST-MODIFIED:20230725T231645Z
UID:10000299-1696611600-1696622400@www.laet.org
SUMMARY:Pro Bono Night - Tri-Cities Area
DESCRIPTION:You’re Invited to Tri Cities Pro Bono Night – Cocktail Hour! \nSince 2010\, our committed pro bono attorneys have generously donated their time to handle over 10\,000 cases at Legal Aid of East Tennessee\, providing essential legal support to low-income members of our community. Their dedication remains a cornerstone of our mission\, facilitating crucial access to justice for those in need. \nWe cordially invite you to join us on this occasion as we celebrate the profound impact of the pro bono work in our community. \nJoin us in expressing our heartfelt appreciation to the remarkable attorneys and community partners who make our pro bono efforts possible. Your presence and support will further our commitment to positively impact the lives of those in our community who require assistance the most. \nFor more detailed information about our organization\, please visit www.laet.org. \n  \nClick HERE for tickets.\n 
URL:https://www.laet.org/event/pro-bono-night-tri-cities-area-2/
ATTACH;FMTTYPE=image/png:https://www.laet.org/wp-content/uploads/2023/07/Pro-Bono-Squares-General-Calendar-LinkedIn-Post-9.png
END:VEVENT
BEGIN:VEVENT
DTSTART;TZID=UTC:20231011T120000
DTEND;TZID=UTC:20231011T140000
DTSTAMP:20260421T003832
CREATED:20221215T003752Z
LAST-MODIFIED:20221215T003752Z
UID:10000241-1697025600-1697032800@www.laet.org
SUMMARY:Free Legal Advice Clinic for Veterans
DESCRIPTION:Any veteran seeking legal help is encouraged to attend the Legal Advice Clinic for Veterans on October 11\, 2023\, from 12:00 p.m. to 2:00 p.m. \nVeterans who are not able to attend the clinic in person are encouraged to continue to use the telephone clinic option.  Preregistration is required for telephone clinic and veterans are asked to call Legal Aid of East Tennessee at (865)637-0484 to preregister. \nThis is a general advice clinic for a wide variety of legal issues\, including family law\, landlord/tenant\, bankruptcy\, criminal defense\, consumer protection\, contract disputes\, child support\, and personal injury\, among other issues.
URL:https://www.laet.org/event/free-legal-advice-clinic-for-veterans-19/
LOCATION:Knox County Public Defender’s Community Law Office\, 1101 Liberty Street\, Knoxville\, TN\, 37919
ATTACH;FMTTYPE=image/png:https://www.laet.org/wp-content/uploads/2022/12/Veterans-Clinic-600-x-600-4.png
END:VEVENT
BEGIN:VEVENT
DTSTART;TZID=UTC:20231019T170000
DTEND;TZID=UTC:20231019T183000
DTSTAMP:20260421T003832
CREATED:20221214T235842Z
LAST-MODIFIED:20230104T191947Z
UID:10000157-1697734800-1697740200@www.laet.org
SUMMARY:Kingsport Bar Clinic
DESCRIPTION:General legal advice on civil matters (housing\, benefits\, taxes\, estate\, family\, property\, landlord/tenant\, contract\, etc.) \nThursday\, October 19\, 2023 \n5:00 pm to 6:30 pm \nVO Dobbins Community Center\, 301 Louis St\, Kingsport\, TN 37660
URL:https://www.laet.org/event/kingsport-bar-clinic-14/
ATTACH;FMTTYPE=image/png:https://www.laet.org/wp-content/uploads/2022/12/Kingsport-Bar-Clinic-600-x-600-8.png
END:VEVENT
BEGIN:VEVENT
DTSTART;TZID=UTC:20231026T170000
DTEND;TZID=UTC:20231026T200000
DTSTAMP:20260421T003832
CREATED:20230725T231107Z
LAST-MODIFIED:20230803T200933Z
UID:10000300-1698339600-1698350400@www.laet.org
SUMMARY:Pro Bono Night - Chattanooga Area
DESCRIPTION:  \nYou’re Invited to Chattanooga Pro Bono Night – An Evening of Celebration\, Appreciation\, and Live Music! \nPresented by: Chambliss\, Bahner & Stophel P.C. \nSince 2010\, our committed pro bono attorneys have generously donated their time to handle over 10\,000 cases at Legal Aid of East Tennessee\, providing essential legal support to low-income members of our community. Their dedication remains a cornerstone of our mission\, facilitating crucial access to justice for those in need. \nWe cordially invite you to join us for live music\, food\, drinks\, awards\, and a silent auction as we celebrate the profound impact of pro bono work in our community! \nWe hope you will join us in celebrating the remarkable attorneys and community partners who make our pro bono efforts possible. Your presence and support will further our commitment to positively impact the lives of those in our community who require assistance the most. \nFor more detailed information about our organization\, please visit www.laet.org. \nClick HERE for tickets.
URL:https://www.laet.org/event/pro-bono-night-chattanooga-area-2/
LOCATION:Chattanooga Whiskey Event Hall\, 890 Riverfront Pkwy\, Chattanooga\, TN\, 37402\, United States
ATTACH;FMTTYPE=image/png:https://www.laet.org/wp-content/uploads/2023/07/Pro-Bono-Squares-General-Calendar-LinkedIn-Post-5.png
END:VEVENT
BEGIN:VEVENT
DTSTART;TZID=UTC:20231102T170000
DTEND;TZID=UTC:20231102T200000
DTSTAMP:20260421T003832
CREATED:20230724T232341Z
LAST-MODIFIED:20230908T222809Z
UID:10000301-1698944400-1698955200@www.laet.org
SUMMARY:Pro Bono Night - Knoxville Area
DESCRIPTION:    \nYou’re Invited to Knoxville Pro Bono Night – An Evening of Celebration\, Appreciation\, and Live Music!  \nPresented by: Egerton\, McAfee\, Armistead & Davis\, P.C. \nSince 2010\, our committed pro bono attorneys have generously donated their time to handle over 10\,000 cases at Legal Aid of East Tennessee\, providing essential legal support to low-income members of our community. Their dedication remains a cornerstone of our mission\, facilitating crucial access to justice for those in need. \nWe cordially invite you to join us on this distinguished occasion as we celebrate the profound impact of pro bono work in our community. \nWhat to Expect: \n\nLive Music: Enjoy live music provided by one of our very own attorney’s\, Michael Davis\, and his bandmates!\nCulinary Delights and Beverages: Savor a selection of delicious heavy hors d’oeuvres provided by Holly’s Gourmet Kitchen.\nSilent Auction: Browse our silent auction\, where you can bid on regional items\, experiences\, and services.\n\nJoin us in expressing our heartfelt appreciation to the remarkable attorneys and community partners who make our pro bono efforts possible. Your presence and support will further our commitment to positively impact the lives of those in our community who require assistance the most. \nFor more detailed information about our organization\, please visit www.laet.org. \n  \nClick HERE for tickets.
URL:https://www.laet.org/event/pro-bono-night-knoxville-area-2/
LOCATION:The Standard Knoxville\, 416 W. Jackson Avenue\, Knoxville\, TN\, 37902\, United States
ATTACH;FMTTYPE=image/png:https://www.laet.org/wp-content/uploads/2023/07/Pro-Bono-Squares-General-Calendar-LinkedIn-Post-6.png
END:VEVENT
BEGIN:VEVENT
DTSTART;TZID=UTC:20231108T120000
DTEND;TZID=UTC:20231108T140000
DTSTAMP:20260421T003832
CREATED:20221215T001729Z
LAST-MODIFIED:20221215T001749Z
UID:10000239-1699444800-1699452000@www.laet.org
SUMMARY:Free Legal Advice Clinic for Veterans
DESCRIPTION:Any veteran seeking legal help is encouraged to attend the Legal Advice Clinic for Veterans on November 8\, 2023\, from 12:00 p.m. to 2:00 p.m. \nVeterans who are not able to attend the clinic in person are encouraged to continue to use the telephone clinic option.  Preregistration is required for telephone clinic and veterans are asked to call Legal Aid of East Tennessee at (865)637-0484 to preregister. \nThis is a general advice clinic for a wide variety of legal issues\, including family law\, landlord/tenant\, bankruptcy\, criminal defense\, consumer protection\, contract disputes\, child support\, and personal injury\, among other issues.
URL:https://www.laet.org/event/free-legal-advice-clinic-for-veterans-17/
LOCATION:Knox County Public Defender’s Community Law Office\, 1101 Liberty Street\, Knoxville\, TN\, 37919
ATTACH;FMTTYPE=image/png:https://www.laet.org/wp-content/uploads/2022/12/Veterans-Clinic-600-x-600-4.png
END:VEVENT
BEGIN:VEVENT
DTSTART;TZID=UTC:20231111T090000
DTEND;TZID=UTC:20231111T120000
DTSTAMP:20260421T003832
CREATED:20231013T163606Z
LAST-MODIFIED:20231019T011857Z
UID:10000250-1699693200-1699704000@www.laet.org
SUMMARY:Debt Relief Clinic
DESCRIPTION:Sat\, November 11\, 9:00a-12:00p\nKnox County Public Defenders Community Law Office\n1101 Liberty St\, Knoxville\, TN 37919 \nPlease arrive by 8:45a \nRegistration closes on November 3\, 2022. \nTo see if you qualify and to register\, Call (865) 637-0484.
URL:https://www.laet.org/event/debt-relief-clinic-4/
LOCATION:Knox County Public Defender’s Community Law Office\, 1101 Liberty Street\, Knoxville\, TN\, 37919
ATTACH;FMTTYPE=image/png:https://www.laet.org/wp-content/uploads/2022/12/Copy-of-Copy-of-Debt-Relief-Clinic-250-×-250-px-1.png
END:VEVENT
BEGIN:VEVENT
DTSTART;TZID=UTC:20231116T170000
DTEND;TZID=UTC:20231116T183000
DTSTAMP:20260421T003832
CREATED:20221214T235902Z
LAST-MODIFIED:20230104T191957Z
UID:10000158-1700154000-1700159400@www.laet.org
SUMMARY:Kingsport Bar Clinic
DESCRIPTION:General legal advice on civil matters (housing\, benefits\, taxes\, estate\, family\, property\, landlord/tenant\, contract\, etc.) \nThursday\, November 16\, 2023 \n5:00 pm to 6:30 pm \nVO Dobbins Community Center\, 301 Louis St\, Kingsport\, TN 37660
URL:https://www.laet.org/event/kingsport-bar-clinic-15/
ATTACH;FMTTYPE=image/png:https://www.laet.org/wp-content/uploads/2022/12/Kingsport-Bar-Clinic-600-x-600-8.png
END:VEVENT
BEGIN:VEVENT
DTSTART;TZID=UTC:20231128T150000
DTEND;TZID=UTC:20231128T160000
DTSTAMP:20260421T003832
CREATED:20221220T030733Z
LAST-MODIFIED:20221220T030733Z
UID:10000258-1701183600-1701187200@www.laet.org
SUMMARY:Executive Committee Meeting - Board of Directors
DESCRIPTION:
URL:https://www.laet.org/event/executive-committee-meeting-board-of-directors-8/
END:VEVENT
BEGIN:VEVENT
DTSTART;TZID=UTC:20231214T150000
DTEND;TZID=UTC:20231214T160000
DTSTAMP:20260421T003832
CREATED:20221220T030552Z
LAST-MODIFIED:20221220T030552Z
UID:10000255-1702566000-1702569600@www.laet.org
SUMMARY:LAET Board of Directors Meeting
DESCRIPTION:
URL:https://www.laet.org/event/laet-board-of-directors-meeting-8/
END:VEVENT
BEGIN:VEVENT
DTSTART;TZID=UTC:20231221T170000
DTEND;TZID=UTC:20231221T183000
DTSTAMP:20260421T003832
CREATED:20221214T235941Z
LAST-MODIFIED:20230104T192007Z
UID:10000159-1703178000-1703183400@www.laet.org
SUMMARY:Kingsport Bar Clinic
DESCRIPTION:General legal advice on civil matters (housing\, benefits\, taxes\, estate\, family\, property\, landlord/tenant\, contract\, etc.) \nThursday\, December 21\, 2023 \n5:00 pm to 6:30 pm \nVO Dobbins Community Center\, 301 Louis St\, Kingsport\, TN 37660
URL:https://www.laet.org/event/kingsport-bar-clinic-16/
ATTACH;FMTTYPE=image/png:https://www.laet.org/wp-content/uploads/2022/12/Kingsport-Bar-Clinic-600-x-600-8.png
END:VEVENT
BEGIN:VEVENT
DTSTART;TZID=UTC:20240126T110000
DTEND;TZID=UTC:20240126T130000
DTSTAMP:20260421T003832
CREATED:20240124T031840Z
LAST-MODIFIED:20240124T031840Z
UID:10000313-1706266800-1706274000@www.laet.org
SUMMARY:MARION COUNTY INTAKE - JUSTICE CENTER
DESCRIPTION:LEGAL AID OF EAST TENNESSEE  \n WILL CONDUCT LOCAL CLIENT INTAKE  INTERVIEW SESSIONS IN JASPER  \nat the  \nMarion County Justice Center   \nFriday\, January 26\, 2024   \nBeginning at 11:00 a.m. CST   \n  \nLegal Aid of East Tennessee is a FREE service for  \nlow income Tennesseans and senior Tennesseans with civil legal problems\, examples being consumer\, housing\, veteran’s/government benefits\, domestic violence issues\, and adoption.  \n   \nFor more information call Legal Aid’s Chattanooga office at 423-756-4013 
URL:https://www.laet.org/event/marion-county-intake-justice-center-14/
LOCATION:Marion County Justice Center\, TN\, United States
ATTACH;FMTTYPE=image/png:https://www.laet.org/wp-content/uploads/2024/01/Jasper-January-2024.png
END:VEVENT
END:VCALENDAR