BEGIN:VCALENDAR
VERSION:2.0
PRODID:-//Legal Aid of East Tennessee - ECPv6.15.20//NONSGML v1.0//EN
CALSCALE:GREGORIAN
METHOD:PUBLISH
X-WR-CALNAME:Legal Aid of East Tennessee
X-ORIGINAL-URL:https://www.laet.org
X-WR-CALDESC:Events for Legal Aid of East Tennessee
REFRESH-INTERVAL;VALUE=DURATION:PT1H
X-Robots-Tag:noindex
X-PUBLISHED-TTL:PT1H
BEGIN:VTIMEZONE
TZID:UTC
BEGIN:STANDARD
TZOFFSETFROM:+0000
TZOFFSETTO:+0000
TZNAME:UTC
DTSTART:20230101T000000
END:STANDARD
END:VTIMEZONE
BEGIN:VTIMEZONE
TZID:America/New_York
BEGIN:DAYLIGHT
TZOFFSETFROM:-0500
TZOFFSETTO:-0400
TZNAME:EDT
DTSTART:20230312T070000
END:DAYLIGHT
BEGIN:STANDARD
TZOFFSETFROM:-0400
TZOFFSETTO:-0500
TZNAME:EST
DTSTART:20231105T060000
END:STANDARD
BEGIN:DAYLIGHT
TZOFFSETFROM:-0500
TZOFFSETTO:-0400
TZNAME:EDT
DTSTART:20240310T070000
END:DAYLIGHT
BEGIN:STANDARD
TZOFFSETFROM:-0400
TZOFFSETTO:-0500
TZNAME:EST
DTSTART:20241103T060000
END:STANDARD
BEGIN:DAYLIGHT
TZOFFSETFROM:-0500
TZOFFSETTO:-0400
TZNAME:EDT
DTSTART:20250309T070000
END:DAYLIGHT
BEGIN:STANDARD
TZOFFSETFROM:-0400
TZOFFSETTO:-0500
TZNAME:EST
DTSTART:20251102T060000
END:STANDARD
END:VTIMEZONE
BEGIN:VEVENT
DTSTART;TZID=UTC:20241207T090000
DTEND;TZID=UTC:20241207T110000
DTSTAMP:20260420T154445
CREATED:20240702T132901Z
LAST-MODIFIED:20241016T180817Z
UID:10000328-1733562000-1733569200@www.laet.org
SUMMARY:Washington County Legal Advice Clinic
DESCRIPTION:Free Legal Advice Clinic \nMonthly on the first Saturday (unless a holiday\, then the second Saturday)\nLocation: Good Samaritan Ministries\, Inc. \nSponsored by the Washington County Bar Association
URL:https://www.laet.org/event/washington-county-legal-advice-clinic-2/2024-12-07/
LOCATION:Good Samaritan Ministries\, Inc.\, 100 North Roan Street\, Johnson City\, TN\, 37601\, United States
ATTACH;FMTTYPE=image/png:https://www.laet.org/wp-content/uploads/2024/07/Copy-of-Kingsport-Legal-Advice-Clinic-1.png
END:VEVENT
BEGIN:VEVENT
DTSTART;TZID=America/New_York:20241211T080000
DTEND;TZID=America/New_York:20241211T170000
DTSTAMP:20260420T154445
CREATED:20240904T203518Z
LAST-MODIFIED:20240904T203518Z
UID:10000384-1733904000-1733936400@www.laet.org
SUMMARY:John T. O'Connor Senior Center Legal Clinic
DESCRIPTION:Legal Advice Clinic at the John T. O’Connor Senior Center every second Wednesday of the month from 10:00 a.m. through 12:30 p.m.\nHeld in conjunction with the Knoxville-Knox County CAC Office on Aging\, this opportunity is by appointment only.\nOpen to those aged 60 and above living in Knox County.\nThere are no income restrictions\, but pre-registration is REQUIRED.\nCall 865.637.0484 to reserve your spot.
URL:https://www.laet.org/event/john-t-oconnor-senior-center-legal-clinic/2024-12-11/
LOCATION:John T. O’Connor Senior Center\, 611 Winona Street\, Knoxville\, TN\, 37917\, United States
ATTACH;FMTTYPE=image/jpeg:https://www.laet.org/wp-content/uploads/2024/09/455044296_894585392708940_467271165368288636_n.jpg
END:VEVENT
BEGIN:VEVENT
DTSTART;TZID=UTC:20241211T120000
DTEND;TZID=UTC:20241211T140000
DTSTAMP:20260420T154445
CREATED:20240124T013340Z
LAST-MODIFIED:20240603T215826Z
UID:10000310-1733918400-1733925600@www.laet.org
SUMMARY:Free Legal Advice Clinic for Veterans
DESCRIPTION:Any veteran seeking legal help is encouraged to attend the free Legal Advice Clinic for Veterans from 12:00 p.m. to 2:00 p.m. NOTE: This is an ADVICE-ONLY clinic. \nVeterans not able to attend in person are encouraged to use the telephone option. Preregistration is required for the telephone option\, and veterans are asked to call Legal Aid of East Tennessee at (865) 637-0484 to do so. \nThis is a general advice clinic\, and consultations will be provided for a wide variety of legal issues including family law\, landlord/tenant\, bankruptcy\, criminal defense\, consumer protection\, contract disputes\, child support\, and personal injury\, among other issues.
URL:https://www.laet.org/event/free-legal-advice-clinic-for-veterans-24/
LOCATION:Knox County Public Defender’s Community Law Office\, 1101 Liberty Street\, Knoxville\, TN\, 37919
ATTACH;FMTTYPE=image/png:https://www.laet.org/wp-content/uploads/2022/12/Untitled-design-3.png
END:VEVENT
BEGIN:VEVENT
DTSTART;TZID=America/New_York:20241212T160000
DTEND;TZID=America/New_York:20241212T180000
DTSTAMP:20260420T154445
CREATED:20241101T161456Z
LAST-MODIFIED:20241115T212200Z
UID:10000427-1734019200-1734026400@www.laet.org
SUMMARY:The Return of Chattanooga's Hall of Fame Event
DESCRIPTION:It’s the much-anticipated return of Chattanooga’s Charles W. “Buz” Dooley Pro Bono Hall of Fame.\nJoin us for this casual\, drop-in event from 4:00 p.m. through 6:00 p.m. for drinks\, heavy hors d’oeuvres\, inductions\, and awards.\nLAET’s Chattanooga office: 100 West MLK Boulevard\, Suite 402 (fourth floor)\, Chattanooga\, TN\, 37402\nOur special guest will be Justice Mary L. Wagner.\nThis is a free event. No RSVP required.  \nInductees include: \nJames “Jim” Exum\, III: Chambliss Bahner & Stophel\, P.C.\nAlan Cates: Husch Blackwell\nMelody Shekari\, private practice and Executive Director of the Women’s Fund of Greater Chattanooga\nArthur Bass\, private practice \n  \nSpecial guest Justice Mary L. Wagner: Throughout her career\, Wagner has been active in the legal community. She is a member of the Tennessee\, Mississippi and Memphis Bar Associations. She serves on various committees and board for these associations. In 2018\, Wagner was elected as a Fellow of the Memphis Bar Foundation. Also\, in 2018\, Wagner was selected as one of the Twelve Most Outstanding Women\, Honoring Women in the Judicial System by the Memphis Inter-Denominational Fellowship Inc. Wagner is also active in the Tennessee Judicial Conference\, where she served as Secretary and currently serves on the Tennessee Pattern Jury Instruction Committee and Legislation Committee. Wagner is also a member of the Tennessee Trial Judges Association. In 2019\, Wagner received the Chancellor Charles A. Round Memorial Award for Outstanding Judge of the Year from the Young Lawyers’ Division of the Memphis Bar Association. \nJudge Wagner has also been appointed by the Tennessee Supreme Court as special judge for the Tennessee Worker’s Compensation Appeals Panel and as a member of a Three-Judge panel in a constitutional case.
URL:https://www.laet.org/event/3190/
LOCATION:Legal Aid of East Tennessee\, 607 W Summit Hill Drive\, Knoxville\, TN\, 37902
ATTACH;FMTTYPE=image/png:https://www.laet.org/wp-content/uploads/2024/11/Copy-of-Brown-And-Yellow-Illustrated-Movie-Night-Invitation-Flyer-.png
END:VEVENT
BEGIN:VEVENT
DTSTART;TZID=America/New_York:20241217T110000
DTEND;TZID=America/New_York:20241217T140000
DTSTAMP:20260420T154445
CREATED:20241216T171153Z
LAST-MODIFIED:20241216T171153Z
UID:10000429-1734433200-1734444000@www.laet.org
SUMMARY:Disaster Relief Clinic
DESCRIPTION:Staff from Legal Aid of East Tennessee and Legal Aid of North Carolina will be on hand to provide information to those affected by Hurricane Helene in areas such as housing\, FEMA\, and insurance claims. Scan the QR Code for more information.
URL:https://www.laet.org/event/disaster-relief-clinic/
LOCATION:Stateline Resource Center\, 11878 Highway 421 South\, Trade\, TN\, 37691\, United States
ATTACH;FMTTYPE=image/png:https://www.laet.org/wp-content/uploads/2024/12/Image_Editor.png
END:VEVENT
BEGIN:VEVENT
DTSTART;TZID=UTC:20241219T170000
DTEND;TZID=UTC:20241219T183000
DTSTAMP:20260420T154445
CREATED:20241008T173152Z
LAST-MODIFIED:20241008T173152Z
UID:10000397-1734627600-1734633000@www.laet.org
SUMMARY:Kingsport Bar Association Free Legal Advice Clinic
DESCRIPTION:General legal advice on civil matters (housing\, benefits\, taxes\, estate\, family\, property\, landlord/tenant\, contract\, adoptions\, etc.) \n5:00 pm to 6:30 pm \nVO Dobbins Community Center\, 301 Louis St\, Kingsport\, TN 37660\nSecond floor Eastman Room
URL:https://www.laet.org/event/kingsport-bar-association-free-legal-advice-clinic-2/
LOCATION:V.O. Dobbins\, Sr. Complex\, 301 Louis Street\, Kingsport\, TN\, 37660\, United States
ATTACH;FMTTYPE=image/png:https://www.laet.org/wp-content/uploads/2024/06/Kingsport-Legal-Advice-Clinic.png
END:VEVENT
END:VCALENDAR