BEGIN:VCALENDAR
VERSION:2.0
PRODID:-//Legal Aid of East Tennessee - ECPv6.15.20//NONSGML v1.0//EN
CALSCALE:GREGORIAN
METHOD:PUBLISH
X-ORIGINAL-URL:https://www.laet.org
X-WR-CALDESC:Events for Legal Aid of East Tennessee
REFRESH-INTERVAL;VALUE=DURATION:PT1H
X-Robots-Tag:noindex
X-PUBLISHED-TTL:PT1H
BEGIN:VTIMEZONE
TZID:UTC
BEGIN:STANDARD
TZOFFSETFROM:+0000
TZOFFSETTO:+0000
TZNAME:UTC
DTSTART:20230101T000000
END:STANDARD
END:VTIMEZONE
BEGIN:VTIMEZONE
TZID:America/New_York
BEGIN:DAYLIGHT
TZOFFSETFROM:-0500
TZOFFSETTO:-0400
TZNAME:EDT
DTSTART:20230312T070000
END:DAYLIGHT
BEGIN:STANDARD
TZOFFSETFROM:-0400
TZOFFSETTO:-0500
TZNAME:EST
DTSTART:20231105T060000
END:STANDARD
BEGIN:DAYLIGHT
TZOFFSETFROM:-0500
TZOFFSETTO:-0400
TZNAME:EDT
DTSTART:20240310T070000
END:DAYLIGHT
BEGIN:STANDARD
TZOFFSETFROM:-0400
TZOFFSETTO:-0500
TZNAME:EST
DTSTART:20241103T060000
END:STANDARD
BEGIN:DAYLIGHT
TZOFFSETFROM:-0500
TZOFFSETTO:-0400
TZNAME:EDT
DTSTART:20250309T070000
END:DAYLIGHT
BEGIN:STANDARD
TZOFFSETFROM:-0400
TZOFFSETTO:-0500
TZNAME:EST
DTSTART:20251102T060000
END:STANDARD
END:VTIMEZONE
BEGIN:VEVENT
DTSTART;TZID=UTC:20241102T090000
DTEND;TZID=UTC:20241102T110000
DTSTAMP:20260420T122130
CREATED:20240702T132901Z
LAST-MODIFIED:20241016T180817Z
UID:10000327-1730538000-1730545200@www.laet.org
SUMMARY:Washington County Legal Advice Clinic
DESCRIPTION:Free Legal Advice Clinic \nMonthly on the first Saturday (unless a holiday\, then the second Saturday)\nLocation: Good Samaritan Ministries\, Inc. \nSponsored by the Washington County Bar Association
URL:https://www.laet.org/event/washington-county-legal-advice-clinic-2/2024-11-02/
LOCATION:Good Samaritan Ministries\, Inc.\, 100 North Roan Street\, Johnson City\, TN\, 37601\, United States
ATTACH;FMTTYPE=image/png:https://www.laet.org/wp-content/uploads/2024/07/Copy-of-Kingsport-Legal-Advice-Clinic-1.png
END:VEVENT
BEGIN:VEVENT
DTSTART;TZID=America/New_York:20241107T170000
DTEND;TZID=America/New_York:20241107T200000
DTSTAMP:20260420T122130
CREATED:20240703T141427Z
LAST-MODIFIED:20241003T121055Z
UID:10000376-1730998800-1731009600@www.laet.org
SUMMARY:Knoxville Pro-Bono Night 2024
DESCRIPTION:Join LAET and Egerton McAfee Armistead & Davis\, P.C. for an extraordinary evening honoring the exceptional work of pro bono attorneys! Since 1965\, LAET has transformed lives throughout the region\, and this has been made possible through selfless pro bono attorneys who volunteer their time. Let’s come together to acknowledge their vital role in LAET’s mission and celebrate their life-changing impact. \nClick here to be taken to the event site and ticketing page:\nhttps://laet.networkforgood.com/events/73632-knoxville-pro-bono-night-2024 \nTicket prices: \nGeneral Admission: $55\nAdmission for one with access to the buffet and bar \nKBA Young Barristers/TBA-YLD\, Recent Graduates: $35\nAdmission for one and available exclusively to those belonging to the above groups with access to buffet and bar \nGroup of 10: $500\nAdmission for 10\, a reserved table\, and access to the buffet and bar \nCouple Admission: $100\nAdmission for two individuals with access to the buffet and bar \nTennessee Supreme Court Attorneys for Justice: $0\nIndividuals who appeared on the TN Supreme Court’s 2024 Pro Bono Honor Roll \nEvent questions?\nContact Caitlin To****@**ET.org\nFor sponsorship opportunities\, contact Chris Berryman at CB*******@**ET.org
URL:https://www.laet.org/event/knoxville-pro-bono-night-2024/
LOCATION:The Standard Knoxville\, 416 W. Jackson Avenue\, Knoxville\, TN\, 37902\, United States
ATTACH;FMTTYPE=image/png:https://www.laet.org/wp-content/uploads/2024/07/2024-PB-Nights-NFG-ticketing-graphics.png
ORGANIZER;CN="Legal Aid of East Tennessee":MAILTO:info@LAET.org
END:VEVENT
BEGIN:VEVENT
DTSTART;TZID=UTC:20241109T090000
DTEND;TZID=UTC:20241109T120000
DTSTAMP:20260420T122130
CREATED:20241016T050609Z
LAST-MODIFIED:20241016T051159Z
UID:10000417-1731142800-1731153600@www.laet.org
SUMMARY:Debt Relief Clinic
DESCRIPTION:LAET is offering a free debt relief clinic on November 9\, 2024.\nCall 865.637.0484 beforehand to determine if you qualify.\nThis clinic will be open to eligible residents of Knox\, Loudon\, Blount\, and Sevier counties.
URL:https://www.laet.org/event/debt-relief-clinic-7/
LOCATION:Knox County Public Defender’s Community Law Office\, 1101 Liberty Street\, Knoxville\, TN\, 37919
ATTACH;FMTTYPE=image/png:https://www.laet.org/wp-content/uploads/2024/10/November-Debt-Relief.png
END:VEVENT
BEGIN:VEVENT
DTSTART;TZID=UTC:20241112T170000
DTEND;TZID=UTC:20241112T183000
DTSTAMP:20260420T122130
CREATED:20241008T172943Z
LAST-MODIFIED:20241023T162319Z
UID:10000396-1731430800-1731436200@www.laet.org
SUMMARY:Kingsport Bar Association Free Legal Advice Clinic
DESCRIPTION:General legal advice on civil matters (housing\, benefits\, taxes\, estate\, family\, property\, landlord/tenant\, contract\, adoptions\, etc.) \n5:00 pm to 6:30 pm \nVO Dobbins Community Center\, 301 Louis St\, Kingsport\, TN 37660\nThis event will take place in the Douglass Room of the community center\, which is on the first floor near the north entrance.
URL:https://www.laet.org/event/kingsport-bar-association-free-legal-advice-clinic/
LOCATION:V.O. Dobbins\, Sr. Complex\, 301 Louis Street\, Kingsport\, TN\, 37660\, United States
ATTACH;FMTTYPE=image/png:https://www.laet.org/wp-content/uploads/2024/06/Kingsport-Legal-Advice-Clinic.png
END:VEVENT
BEGIN:VEVENT
DTSTART;TZID=America/New_York:20241113T080000
DTEND;TZID=America/New_York:20241113T170000
DTSTAMP:20260420T122130
CREATED:20240904T203518Z
LAST-MODIFIED:20240904T203518Z
UID:10000383-1731484800-1731517200@www.laet.org
SUMMARY:John T. O'Connor Senior Center Legal Clinic
DESCRIPTION:Legal Advice Clinic at the John T. O’Connor Senior Center every second Wednesday of the month from 10:00 a.m. through 12:30 p.m.\nHeld in conjunction with the Knoxville-Knox County CAC Office on Aging\, this opportunity is by appointment only.\nOpen to those aged 60 and above living in Knox County.\nThere are no income restrictions\, but pre-registration is REQUIRED.\nCall 865.637.0484 to reserve your spot.
URL:https://www.laet.org/event/john-t-oconnor-senior-center-legal-clinic/2024-11-13/
LOCATION:John T. O’Connor Senior Center\, 611 Winona Street\, Knoxville\, TN\, 37917\, United States
ATTACH;FMTTYPE=image/jpeg:https://www.laet.org/wp-content/uploads/2024/09/455044296_894585392708940_467271165368288636_n.jpg
END:VEVENT
END:VCALENDAR