BEGIN:VCALENDAR
VERSION:2.0
PRODID:-//Legal Aid of East Tennessee - ECPv6.15.20//NONSGML v1.0//EN
CALSCALE:GREGORIAN
METHOD:PUBLISH
X-WR-CALNAME:Legal Aid of East Tennessee
X-ORIGINAL-URL:https://www.laet.org
X-WR-CALDESC:Events for Legal Aid of East Tennessee
REFRESH-INTERVAL;VALUE=DURATION:PT1H
X-Robots-Tag:noindex
X-PUBLISHED-TTL:PT1H
BEGIN:VTIMEZONE
TZID:UTC
BEGIN:STANDARD
TZOFFSETFROM:+0000
TZOFFSETTO:+0000
TZNAME:UTC
DTSTART:20230101T000000
END:STANDARD
END:VTIMEZONE
BEGIN:VTIMEZONE
TZID:America/New_York
BEGIN:DAYLIGHT
TZOFFSETFROM:-0500
TZOFFSETTO:-0400
TZNAME:EDT
DTSTART:20230312T070000
END:DAYLIGHT
BEGIN:STANDARD
TZOFFSETFROM:-0400
TZOFFSETTO:-0500
TZNAME:EST
DTSTART:20231105T060000
END:STANDARD
BEGIN:DAYLIGHT
TZOFFSETFROM:-0500
TZOFFSETTO:-0400
TZNAME:EDT
DTSTART:20240310T070000
END:DAYLIGHT
BEGIN:STANDARD
TZOFFSETFROM:-0400
TZOFFSETTO:-0500
TZNAME:EST
DTSTART:20241103T060000
END:STANDARD
BEGIN:DAYLIGHT
TZOFFSETFROM:-0500
TZOFFSETTO:-0400
TZNAME:EDT
DTSTART:20250309T070000
END:DAYLIGHT
BEGIN:STANDARD
TZOFFSETFROM:-0400
TZOFFSETTO:-0500
TZNAME:EST
DTSTART:20251102T060000
END:STANDARD
END:VTIMEZONE
BEGIN:VEVENT
DTSTART;TZID=UTC:20240803T090000
DTEND;TZID=UTC:20240803T110000
DTSTAMP:20260422T052128
CREATED:20240702T132901Z
LAST-MODIFIED:20241016T180817Z
UID:10000324-1722675600-1722682800@www.laet.org
SUMMARY:Washington County Legal Advice Clinic
DESCRIPTION:Free Legal Advice Clinic \nMonthly on the first Saturday (unless a holiday\, then the second Saturday)\nLocation: Good Samaritan Ministries\, Inc. \nSponsored by the Washington County Bar Association
URL:https://www.laet.org/event/washington-county-legal-advice-clinic-2/2024-08-03/
LOCATION:Good Samaritan Ministries\, Inc.\, 100 North Roan Street\, Johnson City\, TN\, 37601\, United States
ATTACH;FMTTYPE=image/png:https://www.laet.org/wp-content/uploads/2024/07/Copy-of-Kingsport-Legal-Advice-Clinic-1.png
END:VEVENT
BEGIN:VEVENT
DTSTART;TZID=America/New_York:20240808T153000
DTEND;TZID=America/New_York:20240808T163000
DTSTAMP:20260422T052128
CREATED:20240709T135952Z
LAST-MODIFIED:20240709T140558Z
UID:10000378-1723131000-1723134600@www.laet.org
SUMMARY:Ribbon-cutting Celebration at the LAET Eviction Prevention Program's office
DESCRIPTION:Register today at:\nhttps://bit.ly/RibbonCuttingKnoxville \nLAET is thrilled to announce the ribbon-cutting ceremony of our Eviction Prevention Program (EPP)\, located at 4450 Walker Boulevard\, Suite C\, Knoxville\, TN\, 37917\, held in conjuction with the Knoxville Chamber of Commerce.\nThe event begins at 3:30 p.m. on Thursday\, August 8\, 2024. Ample\, free parking is available right in front of the office. \nCome celebrate with us and the Knoxville Chamber of Commerce.\nBe sure to register at the link provided.\nQuestions? Email Chris Berryman at CB*******@**ET.org
URL:https://www.laet.org/event/ribbon-cutting-celebration-at-the-laet-eviction-prevention-programs-office/
LOCATION:LAET: Eviction Prevention Program\, 4450 Walker Blvd.\, Suite C\, Knoxville\, 37917\, United States
ATTACH;FMTTYPE=image/png:https://www.laet.org/wp-content/uploads/2024/07/Copy-of-Gold-Red-Minimalist-Grand-Opening-Instagram-Post-.png
END:VEVENT
BEGIN:VEVENT
DTSTART;TZID=UTC:20240814T120000
DTEND;TZID=UTC:20240814T140000
DTSTAMP:20260422T052128
CREATED:20240124T013221Z
LAST-MODIFIED:20240603T215925Z
UID:10000308-1723636800-1723644000@www.laet.org
SUMMARY:Free Legal Advice Clinic for Veterans
DESCRIPTION:Any veteran seeking legal help is encouraged to attend the free Legal Advice Clinic for Veterans from 12:00 p.m. to 2:00 p.m. NOTE: This is an ADVICE-ONLY clinic. \nVeterans not able to attend in person are encouraged to use the telephone option. Preregistration is required for the telephone option\, and veterans are asked to call Legal Aid of East Tennessee at (865) 637-0484 to do so. \nThis is a general advice clinic\, and consultations will be provided for a wide variety of legal issues including family law\, landlord/tenant\, bankruptcy\, criminal defense\, consumer protection\, contract disputes\, child support\, and personal injury\, among other issues.
URL:https://www.laet.org/event/free-legal-advice-clinic-for-veterans-22/
LOCATION:Knox County Public Defender’s Community Law Office\, 1101 Liberty Street\, Knoxville\, TN\, 37919
ATTACH;FMTTYPE=image/png:https://www.laet.org/wp-content/uploads/2022/12/Untitled-design-3.png
END:VEVENT
BEGIN:VEVENT
DTSTART;TZID=UTC:20240815T170000
DTEND;TZID=UTC:20240815T183000
DTSTAMP:20260422T052128
CREATED:20240227T213043Z
LAST-MODIFIED:20240227T213043Z
UID:10000335-1723741200-1723746600@www.laet.org
SUMMARY:Kingsport Bar Association Free Legal Advice Clinic
DESCRIPTION:General legal advice on civil matters (housing\, benefits\, taxes\, estate\, family\, property\, landlord/tenant\, contract\, adoptions\, etc.) \nEvery third Thursday of the month \n5:00 pm to 6:30 pm \nVO Dobbins Community Center\, 301 Louis St\, Kingsport\, TN 37660
URL:https://www.laet.org/event/kingsport-bar-clinic-18-2/2024-08-15/
LOCATION:V.O. Dobbins\, Sr. Complex\, 301 Louis Street\, Kingsport\, TN\, 37660\, United States
ATTACH;FMTTYPE=image/png:https://www.laet.org/wp-content/uploads/2022/12/Kingsport-clinic.png
END:VEVENT
BEGIN:VEVENT
DTSTART;TZID=UTC:20240817T090000
DTEND;TZID=UTC:20240817T120000
DTSTAMP:20260422T052128
CREATED:20240509T164732Z
LAST-MODIFIED:20240509T164732Z
UID:10000361-1723885200-1723896000@www.laet.org
SUMMARY:Debt Relief Clinic
DESCRIPTION:LAET is offering a free debt relief clinic on August 17\, 2024.\nCall 865.637.0484 beforehand to determine if you qualify.\nThis clinic will be open to eligible residents of Knox\, Loudon\, Blount\, and Sevier counties.
URL:https://www.laet.org/event/debt-relief-clinic-6/
LOCATION:Knox County Public Defender’s Community Law Office\, 1101 Liberty Street\, Knoxville\, TN\, 37919
ATTACH;FMTTYPE=image/png:https://www.laet.org/wp-content/uploads/2024/05/Image_Editor-5.png
END:VEVENT
BEGIN:VEVENT
DTSTART;TZID=UTC:20240827T140000
DTEND;TZID=UTC:20240827T160000
DTSTAMP:20260422T052128
CREATED:20240529T192232Z
LAST-MODIFIED:20240820T171750Z
UID:10000366-1724767200-1724774400@www.laet.org
SUMMARY:Meigs County Intake/Interview Sessions
DESCRIPTION:LEGAL AID OF EAST TENNESSEE\nWILL CONDUCT LOCAL CLIENT INTAKE/INTERVIEW SESSIONS IN DECATUR \nMeigs County Courthouse \nTuesday\, August 27\, 2024 \nBeginning at 2:00 p.m. EST \nLegal Aid of East Tennessee is a FREE service for low-income Tennesseans and\nolder adults with civil legal problems\, examples being consumer\, housing\, veteran’s/government benefits\,\ndomestic violence issues\, and adoption.\nFor more information call Legal Aid’s Chattanooga location at 423-756-4013
URL:https://www.laet.org/event/meigs-county-intake-interview-sessions-4/
LOCATION:Meigs County Courthouse\, 17214 TN-58\, Decatur\, TN\, 37322\, United States
ATTACH;FMTTYPE=image/png:https://www.laet.org/wp-content/uploads/2024/05/DecaturMeigs-2024-1.png
END:VEVENT
END:VCALENDAR