BEGIN:VCALENDAR
VERSION:2.0
PRODID:-//Legal Aid of East Tennessee - ECPv6.15.20//NONSGML v1.0//EN
CALSCALE:GREGORIAN
METHOD:PUBLISH
X-WR-CALNAME:Legal Aid of East Tennessee
X-ORIGINAL-URL:https://www.laet.org
X-WR-CALDESC:Events for Legal Aid of East Tennessee
REFRESH-INTERVAL;VALUE=DURATION:PT1H
X-Robots-Tag:noindex
X-PUBLISHED-TTL:PT1H
BEGIN:VTIMEZONE
TZID:UTC
BEGIN:STANDARD
TZOFFSETFROM:+0000
TZOFFSETTO:+0000
TZNAME:UTC
DTSTART:20230101T000000
END:STANDARD
END:VTIMEZONE
BEGIN:VTIMEZONE
TZID:America/New_York
BEGIN:DAYLIGHT
TZOFFSETFROM:-0500
TZOFFSETTO:-0400
TZNAME:EDT
DTSTART:20230312T070000
END:DAYLIGHT
BEGIN:STANDARD
TZOFFSETFROM:-0400
TZOFFSETTO:-0500
TZNAME:EST
DTSTART:20231105T060000
END:STANDARD
BEGIN:DAYLIGHT
TZOFFSETFROM:-0500
TZOFFSETTO:-0400
TZNAME:EDT
DTSTART:20240310T070000
END:DAYLIGHT
BEGIN:STANDARD
TZOFFSETFROM:-0400
TZOFFSETTO:-0500
TZNAME:EST
DTSTART:20241103T060000
END:STANDARD
BEGIN:DAYLIGHT
TZOFFSETFROM:-0500
TZOFFSETTO:-0400
TZNAME:EDT
DTSTART:20250309T070000
END:DAYLIGHT
BEGIN:STANDARD
TZOFFSETFROM:-0400
TZOFFSETTO:-0500
TZNAME:EST
DTSTART:20251102T060000
END:STANDARD
END:VTIMEZONE
BEGIN:VEVENT
DTSTART;TZID=UTC:20240711T163000
DTEND;TZID=UTC:20240711T173000
DTSTAMP:20260420T044547
CREATED:20240509T162557Z
LAST-MODIFIED:20240509T164510Z
UID:10000360-1720715400-1720719000@www.laet.org
SUMMARY:Virtual Name Change Clinic
DESCRIPTION:This is a virtual clinic designed to assist clients with filling our name change petitions and advise them on filing pro-se (without an attorney). Pre-registration is required by Tuesday\, July 9\, 2024\, and can be done by scanning the QR Code.  \nLocation: Virtual via Zoom. \nThis event is open to eligible residents of the entire 26-county region covered by Legal Aid of East Tennessee and in partnership with the Tennessee Bar Association Young Lawyer’s Division and Legal Aid Society of Middle Tennessee and the Cumberlands. \n 
URL:https://www.laet.org/event/virtual-name-change-clinic-3/
LOCATION:TN
ATTACH;FMTTYPE=image/png:https://www.laet.org/wp-content/uploads/2024/05/Image_Editor-3.png
END:VEVENT
BEGIN:VEVENT
DTSTART;TZID=America/New_York:20240718T160000
DTEND;TZID=America/New_York:20240718T180000
DTSTAMP:20260420T044547
CREATED:20240705T143852Z
LAST-MODIFIED:20240705T144147Z
UID:10000377-1721318400-1721325600@www.laet.org
SUMMARY:Minority-Owned Business Legal Advice Clinic
DESCRIPTION:The Tennessee Supreme Court in partnership with Legal Aid of East Tennessee\, the Tennessee Alliance of Legal Services (TALS) and the Knoxville Bar Association (KBA) will hold a minority-owned business advice legal clinic on July 18 from 4-6 p.m. ET. The event will take place at the Knoxville Area Urban League\, 1514 East 5th Ave.\, Knoxville\, 37917\, and pre-registration utilizing the QR Code is required. Questions? Contact Jeanne Carmichael at 423.402.4766.
URL:https://www.laet.org/event/minority-owned-business-legal-advice-clinic-2/
LOCATION:TN
ATTACH;FMTTYPE=image/png:https://www.laet.org/wp-content/uploads/2024/07/2024-Minority-Owned-Business-Legal-Advice-Clinic-2.png
END:VEVENT
BEGIN:VEVENT
DTSTART;TZID=UTC:20240718T170000
DTEND;TZID=UTC:20240718T183000
DTSTAMP:20260420T044547
CREATED:20240227T213043Z
LAST-MODIFIED:20240227T213043Z
UID:10000334-1721322000-1721327400@www.laet.org
SUMMARY:Kingsport Bar Association Free Legal Advice Clinic
DESCRIPTION:General legal advice on civil matters (housing\, benefits\, taxes\, estate\, family\, property\, landlord/tenant\, contract\, adoptions\, etc.) \nEvery third Thursday of the month \n5:00 pm to 6:30 pm \nVO Dobbins Community Center\, 301 Louis St\, Kingsport\, TN 37660
URL:https://www.laet.org/event/kingsport-bar-clinic-18-2/2024-07-18/
LOCATION:V.O. Dobbins\, Sr. Complex\, 301 Louis Street\, Kingsport\, TN\, 37660\, United States
ATTACH;FMTTYPE=image/png:https://www.laet.org/wp-content/uploads/2022/12/Kingsport-clinic.png
END:VEVENT
END:VCALENDAR