BEGIN:VCALENDAR
VERSION:2.0
PRODID:-//Legal Aid of East Tennessee - ECPv6.15.20//NONSGML v1.0//EN
CALSCALE:GREGORIAN
METHOD:PUBLISH
X-ORIGINAL-URL:https://www.laet.org
X-WR-CALDESC:Events for Legal Aid of East Tennessee
REFRESH-INTERVAL;VALUE=DURATION:PT1H
X-Robots-Tag:noindex
X-PUBLISHED-TTL:PT1H
BEGIN:VTIMEZONE
TZID:UTC
BEGIN:STANDARD
TZOFFSETFROM:+0000
TZOFFSETTO:+0000
TZNAME:UTC
DTSTART:20230101T000000
END:STANDARD
END:VTIMEZONE
BEGIN:VEVENT
DTSTART;TZID=UTC:20240302T090000
DTEND;TZID=UTC:20240302T110000
DTSTAMP:20260419T211027
CREATED:20240203T001352Z
LAST-MODIFIED:20240203T001608Z
UID:10000319-1709370000-1709377200@www.laet.org
SUMMARY:Washington County Legal Advice Clinic
DESCRIPTION:Free Legal Advice Clinic \nMonthly on the first Saturday (unless a holiday\, then the second Saturday)\nLocation: Good Samaritan Ministries\, Inc. \nSponsored by the Washington County Bar Association
URL:https://www.laet.org/event/washington-county-legal-advice-clinic/2024-03-02/
LOCATION:Good Samaritan Ministries\, Inc.\, 100 North Roan Street\, Johnson City\, TN\, 37601\, United States
ATTACH;FMTTYPE=image/jpeg:https://www.laet.org/wp-content/uploads/2024/02/Wash-Co-Clinic.jpg
END:VEVENT
BEGIN:VEVENT
DTSTART;TZID=UTC:20240314T140000
DTEND;TZID=UTC:20240314T160000
DTSTAMP:20260419T211027
CREATED:20240307T201955Z
LAST-MODIFIED:20240307T202121Z
UID:10000344-1710424800-1710432000@www.laet.org
SUMMARY:Rhea County Intake/Interview Sessions at Rhea County Justice Center
DESCRIPTION:LEGAL AID OF EAST TENNESSEE\nwill conduct local client intake interview sessions at the Rhea County Justice Center \n7824 Rhea County Hwy\, Dayton TN 37321\nThursday\, March 14\, 2024\nBeginning at 2:00pm ET \nLegal Aid of East Tennessee is a FREE service for low-income Tennesseans and\nolder (60+) Tennesseans with civil (non-criminal) legal issues including\nconsumer\, housing\, veteran’s benefits\, government benefits\, domestic violence issues\, and adoption. \nFor more information call\nLegal Aid’s Chattanooga Office at 423-756-4013
URL:https://www.laet.org/event/rhea-county-intake-interview-sessions-at-rhea-county-justice-center/
LOCATION:Rhea County Justice Center\, 7824 Rhea County Hwy\, Dayton\, TN - Tennessee\, 37321
ATTACH;FMTTYPE=image/png:https://www.laet.org/wp-content/uploads/2024/03/DaytonRhea-County-Justice-Center-2024.png
END:VEVENT
BEGIN:VEVENT
DTSTART;TZID=UTC:20240321T100000
DTEND;TZID=UTC:20240321T120000
DTSTAMP:20260419T211027
CREATED:20240228T184144Z
LAST-MODIFIED:20240228T184144Z
UID:10000342-1711015200-1711022400@www.laet.org
SUMMARY:Jonesboro Free Legal Advice Clinic
DESCRIPTION:Free presentation and drafting of documents by licensed Tennessee attorneys related to Power of Attorney\nNo registration required \n 
URL:https://www.laet.org/event/jonesboro-free-legal-advice-clinic/
LOCATION:Jonesboro Senior Center\, 307 E. Main St.\, Jonesborough\, TN\, 37659\, United States
ATTACH;FMTTYPE=image/jpeg:https://www.laet.org/wp-content/uploads/2024/02/LAET-Flyer_POA-Clinic-at-Jonesborough-Senior-Center.jpg
ORGANIZER;CN="Legal Aid of East Tennessee":MAILTO:info@LAET.org
END:VEVENT
BEGIN:VEVENT
DTSTART;TZID=UTC:20240321T170000
DTEND;TZID=UTC:20240321T183000
DTSTAMP:20260419T211027
CREATED:20240227T213043Z
LAST-MODIFIED:20240227T213043Z
UID:10000330-1711040400-1711045800@www.laet.org
SUMMARY:Kingsport Bar Association Free Legal Advice Clinic
DESCRIPTION:General legal advice on civil matters (housing\, benefits\, taxes\, estate\, family\, property\, landlord/tenant\, contract\, adoptions\, etc.) \nEvery third Thursday of the month \n5:00 pm to 6:30 pm \nVO Dobbins Community Center\, 301 Louis St\, Kingsport\, TN 37660
URL:https://www.laet.org/event/kingsport-bar-clinic-18-2/2024-03-21/
LOCATION:V.O. Dobbins\, Sr. Complex\, 301 Louis Street\, Kingsport\, TN\, 37660\, United States
ATTACH;FMTTYPE=image/png:https://www.laet.org/wp-content/uploads/2022/12/Kingsport-clinic.png
END:VEVENT
BEGIN:VEVENT
DTSTART;TZID=UTC:20240322T100000
DTEND;TZID=UTC:20240322T140000
DTSTAMP:20260419T211027
CREATED:20240307T223850Z
LAST-MODIFIED:20240307T223850Z
UID:10000345-1711101600-1711116000@www.laet.org
SUMMARY:Bledsoe County Intake/Interview Sessions
DESCRIPTION:LEGAL AID OF EAST TENNESSEE  \nWILL CONDUCT LOCAL CLIENT INTAKE  INTERVIEW SESSIONS IN PIKEVILLE \n  \nBledsoe County Courthouse  \nFriday\, March 22\, 2024 \nBeginning at 10:00 am CT  \n  \nLegal Aid of East Tennessee is a FREE service for low-income Tennesseans and\nolder (60+) Tennesseans with civil (non-criminal) legal issues including\nconsumer\, housing\, veteran’s benefits\, government benefits\, domestic violence issues\, and adoption. \nFor more information call\nLegal Aid’s Chattanooga Office at 423-756-4013
URL:https://www.laet.org/event/bledsoe-county-intake-interview-sessions-2/
LOCATION:Bledsoe County Courthouse\, TN\, United States
ATTACH;FMTTYPE=image/png:https://www.laet.org/wp-content/uploads/2024/03/PikevilleBledsoe-County-March-2024.png
END:VEVENT
BEGIN:VEVENT
DTSTART;TZID=UTC:20240326T140000
DTEND;TZID=UTC:20240326T160000
DTSTAMP:20260419T211027
CREATED:20240306T062715Z
LAST-MODIFIED:20240306T062715Z
UID:10000343-1711461600-1711468800@www.laet.org
SUMMARY:Meigs County Intake/Interview Sessions
DESCRIPTION:LEGAL AID OF EAST TENNESSEE\nWILL CONDUCT LOCAL CLIENT INTAKE INTERVIEW SESSIONS IN DECATUR \nMeigs County Courthouse \nThursday\, March 26\, 2024 \nBeginning at 2:00 p.m. EST \nLegal Aid of East Tennessee is a FREE service for low-income Tennesseans and\nolder adults with civil legal problems\, examples being consumer\, housing\, veteran’s/government benefits\,\ndomestic violence issues\, and adoption.\nFor more information call Legal Aid’s Chattanooga office at 423-756-4013
URL:https://www.laet.org/event/meigs-county-intake-interview-sessions/
LOCATION:TN
ATTACH;FMTTYPE=image/png:https://www.laet.org/wp-content/uploads/2024/03/Copy-of-Decatur-Feb-2024-2.png
END:VEVENT
BEGIN:VEVENT
DTSTART;TZID=UTC:20240327T110000
DTEND;TZID=UTC:20240327T130000
DTSTAMP:20260419T211027
CREATED:20240314T002210Z
LAST-MODIFIED:20240314T002210Z
UID:10000347-1711537200-1711544400@www.laet.org
SUMMARY:Sequatchie County Intake/Interview Sessions
DESCRIPTION:LEGAL AID OF EAST TENNESSEE\nWILL CONDUCT LOCAL CLIENT INTAKE INTERVIEW SESSIONS IN DUNLAP \nSequatchie County Chancery (Old) Courthouse \nWednesday\, March 27\, 2024 \nBeginning at 11:00 a.m. CT \nLegal Aid of East Tennessee is a FREE service for low-income Tennesseans and\nolder adults with civil legal problems\, examples being consumer\, housing\, veteran’s/government benefits\,\ndomestic violence issues\, and adoption.\nFor more information call Legal Aid’s Chattanooga office at 423-756-4013
URL:https://www.laet.org/event/sequatchie-county-intake-interview-sessions/
LOCATION:Sequatchie County Chancery Courthouse\, 22 Cherry Street\, Dunlap\, TN\, 37327\, United States
ATTACH;FMTTYPE=image/png:https://www.laet.org/wp-content/uploads/2024/03/SequatchieDunlap-March-2024.png
END:VEVENT
BEGIN:VEVENT
DTSTART;TZID=UTC:20240328T110000
DTEND;TZID=UTC:20240328T130000
DTSTAMP:20260419T211027
CREATED:20240314T000646Z
LAST-MODIFIED:20240314T000646Z
UID:10000346-1711623600-1711630800@www.laet.org
SUMMARY:Marion County Intake/Interview Sessions
DESCRIPTION:LEGAL AID OF EAST TENNESSEE  \n WILL CONDUCT LOCAL CLIENT INTAKE  INTERVIEW SESSIONS IN JASPER  \nat the  \nMarion County Justice Center   \nFriday\, March 28\, 2024   \nBeginning at 11:00 a.m. CST   \n  \nLegal Aid of East Tennessee is a FREE service for  \nlow income Tennesseans and senior adults with civil legal problems\, examples being consumer\, housing\, veteran’s/government benefits\, domestic violence issues\, and adoption.  \n   \nFor more information call Legal Aid’s Chattanooga office at 423-756-4013 
URL:https://www.laet.org/event/marion-county-intake-interview-sessions/
LOCATION:Marion County Justice Center\, TN\, United States
ATTACH;FMTTYPE=image/png:https://www.laet.org/wp-content/uploads/2024/03/Jasper-March-2024-1.png
END:VEVENT
END:VCALENDAR