BEGIN:VCALENDAR
VERSION:2.0
PRODID:-//Legal Aid of East Tennessee - ECPv6.15.20//NONSGML v1.0//EN
CALSCALE:GREGORIAN
METHOD:PUBLISH
X-WR-CALNAME:Legal Aid of East Tennessee
X-ORIGINAL-URL:https://www.laet.org
X-WR-CALDESC:Events for Legal Aid of East Tennessee
REFRESH-INTERVAL;VALUE=DURATION:PT1H
X-Robots-Tag:noindex
X-PUBLISHED-TTL:PT1H
BEGIN:VTIMEZONE
TZID:UTC
BEGIN:STANDARD
TZOFFSETFROM:+0000
TZOFFSETTO:+0000
TZNAME:UTC
DTSTART:20220101T000000
END:STANDARD
END:VTIMEZONE
BEGIN:VEVENT
DTSTART;TZID=UTC:20230905T150000
DTEND;TZID=UTC:20230905T160000
DTSTAMP:20260419T094620
CREATED:20221220T030710Z
LAST-MODIFIED:20221220T030710Z
UID:10000257-1693926000-1693929600@www.laet.org
SUMMARY:Executive Committee Meeting - Board of Directors
DESCRIPTION:
URL:https://www.laet.org/event/executive-committee-meeting-board-of-directors-7/
LOCATION:TN
END:VEVENT
BEGIN:VEVENT
DTSTART;TZID=UTC:20230913T120000
DTEND;TZID=UTC:20230913T140000
DTSTAMP:20260419T094620
CREATED:20221215T001651Z
LAST-MODIFIED:20221215T001710Z
UID:10000238-1694606400-1694613600@www.laet.org
SUMMARY:Free Legal Advice Clinic for Veterans
DESCRIPTION:Any veteran seeking legal help is encouraged to attend the Legal Advice Clinic for Veterans on September 13\, 2023\, from 12:00 p.m. to 2:00 p.m. \nVeterans who are not able to attend the clinic in person are encouraged to continue to use the telephone clinic option.  Preregistration is required for telephone clinic and veterans are asked to call Legal Aid of East Tennessee at (865)637-0484 to preregister. \nThis is a general advice clinic for a wide variety of legal issues\, including family law\, landlord/tenant\, bankruptcy\, criminal defense\, consumer protection\, contract disputes\, child support\, and personal injury\, among other issues.
URL:https://www.laet.org/event/free-legal-advice-clinic-for-veterans-16/
LOCATION:Knox County Public Defender’s Community Law Office\, 1101 Liberty Street\, Knoxville\, TN\, 37919
ATTACH;FMTTYPE=image/png:https://www.laet.org/wp-content/uploads/2022/12/Veterans-Clinic-600-x-600-4.png
END:VEVENT
BEGIN:VEVENT
DTSTART;TZID=UTC:20230921T170000
DTEND;TZID=UTC:20230921T183000
DTSTAMP:20260419T094620
CREATED:20221214T235543Z
LAST-MODIFIED:20230104T191936Z
UID:10000156-1695315600-1695321000@www.laet.org
SUMMARY:Kingsport Bar Clinic
DESCRIPTION:General legal advice on civil matters (housing\, benefits\, taxes\, estate\, family\, property\, landlord/tenant\, contract\, etc.) \nThursday\, September 21\, 2023 \n5:00 pm to 6:30 pm \nVO Dobbins Community Center\, 301 Louis St\, Kingsport\, TN 37660
URL:https://www.laet.org/event/kingsport-bar-clinic-13/
LOCATION:TN
ATTACH;FMTTYPE=image/png:https://www.laet.org/wp-content/uploads/2022/12/Kingsport-Bar-Clinic-600-x-600-8.png
END:VEVENT
BEGIN:VEVENT
DTSTART;TZID=UTC:20230928T150000
DTEND;TZID=UTC:20230928T160000
DTSTAMP:20260419T094620
CREATED:20221220T030537Z
LAST-MODIFIED:20221220T030537Z
UID:10000253-1695913200-1695916800@www.laet.org
SUMMARY:LAET Board of Directors Meeting
DESCRIPTION:
URL:https://www.laet.org/event/laet-board-of-directors-meeting-7/
LOCATION:TN
END:VEVENT
END:VCALENDAR