BEGIN:VCALENDAR
VERSION:2.0
PRODID:-//Legal Aid of East Tennessee - ECPv6.15.20//NONSGML v1.0//EN
CALSCALE:GREGORIAN
METHOD:PUBLISH
X-ORIGINAL-URL:https://www.laet.org
X-WR-CALDESC:Events for Legal Aid of East Tennessee
REFRESH-INTERVAL;VALUE=DURATION:PT1H
X-Robots-Tag:noindex
X-PUBLISHED-TTL:PT1H
BEGIN:VTIMEZONE
TZID:UTC
BEGIN:STANDARD
TZOFFSETFROM:+0000
TZOFFSETTO:+0000
TZNAME:UTC
DTSTART:20220101T000000
END:STANDARD
END:VTIMEZONE
BEGIN:VEVENT
DTSTART;TZID=UTC:20230307T150000
DTEND;TZID=UTC:20230307T160000
DTSTAMP:20260419T081059
CREATED:20221220T030629Z
LAST-MODIFIED:20221220T030629Z
UID:10000254-1678201200-1678204800@www.laet.org
SUMMARY:Executive Committee Meeting - Board of Directors
DESCRIPTION:
URL:https://www.laet.org/event/executive-committee-meeting-board-of-directors-5/
LOCATION:TN
END:VEVENT
BEGIN:VEVENT
DTSTART;TZID=UTC:20230308T120000
DTEND;TZID=UTC:20230308T140000
DTSTAMP:20260419T081059
CREATED:20221215T001517Z
LAST-MODIFIED:20221215T001517Z
UID:10000165-1678276800-1678284000@www.laet.org
SUMMARY:Free Legal Advice Clinic for Veterans
DESCRIPTION:Any veteran seeking legal help is encouraged to attend the Legal Advice Clinic for Veterans on March 8\, 2023\, from 12:00 p.m. to 2:00 p.m. \nVeterans who are not able to attend the clinic in person are encouraged to continue to use the telephone clinic option.  Preregistration is required for telephone clinic and veterans are asked to call Legal Aid of East Tennessee at (865)637-0484 to preregister. \nThis is a general advice clinic for a wide variety of legal issues\, including family law\, landlord/tenant\, bankruptcy\, criminal defense\, consumer protection\, contract disputes\, child support\, and personal injury\, among other issues.
URL:https://www.laet.org/event/free-legal-advice-clinic-for-veterans-11/
LOCATION:Knox County Public Defender’s Community Law Office\, 1101 Liberty Street\, Knoxville\, TN\, 37919
ATTACH;FMTTYPE=image/png:https://www.laet.org/wp-content/uploads/2022/12/Veterans-Clinic-600-x-600-4.png
END:VEVENT
BEGIN:VEVENT
DTSTART;TZID=UTC:20230310T140000
DTEND;TZID=UTC:20230310T160000
DTSTAMP:20260419T081059
CREATED:20230309T023659Z
LAST-MODIFIED:20230309T023715Z
UID:10000271-1678456800-1678464000@www.laet.org
SUMMARY:Polk County Expungement Clinic
DESCRIPTION:Location: \nPolk County Justice Center \n164 Industrial Access Cir \nBenton\, TN 37307
URL:https://www.laet.org/event/polk-county-expungement-clinic/
LOCATION:TN
ATTACH;FMTTYPE=image/png:https://www.laet.org/wp-content/uploads/2023/03/Polk-County-Expungement-Clinic-1.png
END:VEVENT
BEGIN:VEVENT
DTSTART;TZID=UTC:20230316T170000
DTEND;TZID=UTC:20230316T183000
DTSTAMP:20260419T081059
CREATED:20221214T235346Z
LAST-MODIFIED:20230104T191852Z
UID:10000232-1678986000-1678991400@www.laet.org
SUMMARY:Kingsport Bar Clinic
DESCRIPTION:General legal advice on civil matters (housing\, benefits\, taxes\, estate\, family\, property\, landlord/tenant\, contract\, etc.) \nThursday\, March 16\, 2023 \n5:00 pm to 6:30 pm \nVO Dobbins Community Center\, 301 Louis St\, Kingsport\, TN 37660
URL:https://www.laet.org/event/kingsport-bar-clinic-9/
LOCATION:TN
ATTACH;FMTTYPE=image/png:https://www.laet.org/wp-content/uploads/2022/12/Kingsport-Bar-Clinic-600-x-600-8.png
END:VEVENT
BEGIN:VEVENT
DTSTART;TZID=UTC:20230323T140000
DTEND;TZID=UTC:20230323T170000
DTSTAMP:20260419T081059
CREATED:20230314T181517Z
LAST-MODIFIED:20230314T181517Z
UID:10000275-1679580000-1679590800@www.laet.org
SUMMARY:RHEA COUNTY INTAKE - JUSTICE CENTER
DESCRIPTION:LEGAL AID OF EAST TENNESSEE\nwill conduct local client intake interview sessions at the Rhea County Justice Center \n7824 Rhea County Hwy\, Dayton TN 37321\nThursday\, March 23rd\, 2023\nBeginning at 2:00pm ET \nLegal Aid of East Tennessee is a FREE service for low-income Tennesseans and\nsenior (60+) Tennesseans with civil (non-criminal) legal issues including\nconsumer\, housing\, veteran’s benefits and government benefits issues such a\nfood stamps\, unemployment benefits and TennCare. \nFor more information call\nLegal Aid’s Chattanooga Office at 756-4013 \nLegal Aid of East Tennessee\, Inc. is a nonprofit corporation funded by the\nFederal Government\, through the Legal Services Corporation\, the State of Tennessee and\nvarious other government and private grants and private contributions.
URL:https://www.laet.org/event/rhea-county-intake-justice-center-9/
LOCATION:Rhea County Justice Center\, 7824 Rhea County Hwy\, Dayton\, TN - Tennessee\, 37321
ATTACH;FMTTYPE=image/png:https://www.laet.org/wp-content/uploads/2023/03/Flier-Rhea-4.png
END:VEVENT
BEGIN:VEVENT
DTSTART;TZID=UTC:20230323T160000
DTEND;TZID=UTC:20230323T190000
DTSTAMP:20260419T081059
CREATED:20230309T023242Z
LAST-MODIFIED:20230309T023242Z
UID:10000270-1679587200-1679598000@www.laet.org
SUMMARY:Minority-Owned Business Legal Advice Clinic
DESCRIPTION:Call 423-756-1762 to register. \n  \nLocation: \nUrban League of Chattanooga \n401 E MLK Blvd Suite 301 \nChattanooga\, TN
URL:https://www.laet.org/event/minority-owned-business-legal-advice-clinic/
LOCATION:TN
ATTACH;FMTTYPE=image/png:https://www.laet.org/wp-content/uploads/2023/03/Chattanooga-Minority-Business-323-Instagram-Post-Portrait-1.png
END:VEVENT
BEGIN:VEVENT
DTSTART;TZID=UTC:20230328T100000
DTEND;TZID=UTC:20230328T140000
DTSTAMP:20260419T081059
CREATED:20230314T182511Z
LAST-MODIFIED:20230314T182511Z
UID:10000279-1679997600-1680012000@www.laet.org
SUMMARY:BLEDSOE COUNTY INTAKE - JUSTICE CENTER
DESCRIPTION:LEGAL AID OF EAST TENNESSEE  \nWILL CONDUCT LOCAL CLIENT INTAKE  INTERVIEW SESSIONS IN PIKEVILLE \n  \nBledsoe County Courthouse  \nTuesday\, March 28th\, 2023 \nBeginning at 10:00 am CST  \n  \nLegal Aid of East Tennessee is a FREE service for low-income Tennesseans and senior Tennesseans with civil legal problems including consumer\, housing\, veteran’s benefits\, and government benefits issues such as food stamps\, unemployment benefits\, and TennCare.   \nFor more information call: Legal Aid Chattanooga at 423-756-4013  \nLegal Aid of East Tennessee\, Inc. is a nonprofit corporation funded by the Federal Government\, through the Legal Services Corporation\, the State of Tennessee\, and various other government and private grants and private contributions.  
URL:https://www.laet.org/event/bledsoe-county-intake-justice-center-9/
LOCATION:Bledsoe County Courthouse\, TN\, United States
ATTACH;FMTTYPE=image/png:https://www.laet.org/wp-content/uploads/2023/03/Flier-Bledsoe-3.png
END:VEVENT
BEGIN:VEVENT
DTSTART;TZID=UTC:20230328T110000
DTEND;TZID=UTC:20230328T130000
DTSTAMP:20260419T081059
CREATED:20230314T181636Z
LAST-MODIFIED:20230320T205629Z
UID:10000276-1680001200-1680008400@www.laet.org
SUMMARY:SEQUATCHIE COUNTY INTAKE - JUSTICE CENTER
DESCRIPTION:LEGAL AID OF EAST TENNESSEE\nWILL CONDUCT LOCAL CLIENT INTAKE INTERVIEW SESSIONS IN DUNLAP \nSequatchie County Chancery (Old) Courthouse \nTuesday\, March 28th\, 2023 \nBeginning at 11:00am CST \nLegal Aid of East Tennessee is a FREE service for low-income Tennesseans and\nsenior(60+) Tennesseans with civil (non-criminal) legal issues including\nconsumer\, housing\, veteran’s benefits and government benefits issues such a\nfood stamps\, unemployment benefits and TennCare. \nFor more information call:\nLegal Aid Chattanooga 423-756-4013 \nLegal Aid of East Tennessee\, Inc. is a nonprofit corporation funded by the Federal\nGovernment\, through the Legal Services Corporation\, the State of Tennessee\, and various\nother government and private grants and private contributions.
URL:https://www.laet.org/event/sequatchie-county-intake-justice-center-9/
LOCATION:TN
ATTACH;FMTTYPE=image/png:https://www.laet.org/wp-content/uploads/2023/03/Flier-Sequatchie-2.png
END:VEVENT
BEGIN:VEVENT
DTSTART;TZID=UTC:20230330T150000
DTEND;TZID=UTC:20230330T160000
DTSTAMP:20260419T081059
CREATED:20221220T030500Z
LAST-MODIFIED:20221220T030500Z
UID:10000251-1680188400-1680192000@www.laet.org
SUMMARY:LAET Board of Directors Meeting
DESCRIPTION:
URL:https://www.laet.org/event/laet-board-of-directors-meeting-5/
LOCATION:TN
END:VEVENT
BEGIN:VEVENT
DTSTART;TZID=UTC:20230331T110000
DTEND;TZID=UTC:20230331T130000
DTSTAMP:20260419T081059
CREATED:20230314T182133Z
LAST-MODIFIED:20230320T205655Z
UID:10000277-1680260400-1680267600@www.laet.org
SUMMARY:MARION COUNTY INTAKE - JUSTICE CENTER
DESCRIPTION:LEGAL AID OF EAST TENNESSEE  \n WILL CONDUCT LOCAL CLIENT INTAKE  INTERVIEW SESSIONS IN JASPER  \nat the  \nMarion County Justice Center   \nFriday\, March 31st\, 2023   \nBeginning at 11:00 am CST   \n  \nLegal Aid of East Tennessee is a FREE service for  \nlow income Tennesseans and senior Tennesseans with civil legal problems including  \nconsumer\, housing\, veteran’s benefits and government benefits issues such as  \n food stamps\, unemployment benefits\, and TennCare.   \n   \nFor more information call:  \nLegal Aid Chattanooga at 423-756-4013  \n  \nLegal Aid of East Tennessee\, Inc. is a nonprofit corporation funded by the  \nFederal Government\, through the Legal Services Corporation\, the State of Tennessee\, and  \nvarious other government and private grants and private contributions.  
URL:https://www.laet.org/event/marion-county-intake-justice-center-9/
LOCATION:Marion County Justice Center\, TN\, United States
ATTACH;FMTTYPE=image/png:https://www.laet.org/wp-content/uploads/2023/03/Flier-Marion-2.png
END:VEVENT
END:VCALENDAR