BEGIN:VCALENDAR
VERSION:2.0
PRODID:-//Legal Aid of East Tennessee - ECPv6.15.20//NONSGML v1.0//EN
CALSCALE:GREGORIAN
METHOD:PUBLISH
X-ORIGINAL-URL:https://www.laet.org
X-WR-CALDESC:Events for Legal Aid of East Tennessee
REFRESH-INTERVAL;VALUE=DURATION:PT1H
X-Robots-Tag:noindex
X-PUBLISHED-TTL:PT1H
BEGIN:VTIMEZONE
TZID:UTC
BEGIN:STANDARD
TZOFFSETFROM:+0000
TZOFFSETTO:+0000
TZNAME:UTC
DTSTART:20220101T000000
END:STANDARD
END:VTIMEZONE
BEGIN:VEVENT
DTSTART;TZID=UTC:20230119T140000
DTEND;TZID=UTC:20230119T170000
DTSTAMP:20260419T113753
CREATED:20230118T000306Z
LAST-MODIFIED:20230118T000431Z
UID:10000262-1674136800-1674147600@www.laet.org
SUMMARY:RHEA COUNTY INTAKE - JUSTICE CENTER
DESCRIPTION:LEGAL AID OF EAST TENNESSEE\nwill conduct local client intake interview sessions at the Rhea County Justice Center \n7824 Rhea County Hwy\, Dayton TN 37321\nThursday\, January 19th\, 2023\nBeginning at 2:00pm ET \nLegal Aid of East Tennessee is a FREE service for low-income Tennesseans and\nsenior (60+) Tennesseans with civil (non-criminal) legal issues including\nconsumer\, housing\, veteran’s benefits and government benefits issues such a\nfood stamps\, unemployment benefits and TennCare. \nFor more information call\nLegal Aid’s Chattanooga Office at 756-4013 \nLegal Aid of East Tennessee\, Inc. is a nonprofit corporation funded by the\nFederal Government\, through the Legal Services Corporation\, the State of Tennessee and\nvarious other government and private grants and private contributions.
URL:https://www.laet.org/event/rhea-county-intake-justice-center-7/
LOCATION:Rhea County Justice Center\, 7824 Rhea County Hwy\, Dayton\, TN - Tennessee\, 37321
END:VEVENT
BEGIN:VEVENT
DTSTART;TZID=UTC:20230119T170000
DTEND;TZID=UTC:20230119T183000
DTSTAMP:20260419T113753
CREATED:20221214T235259Z
LAST-MODIFIED:20230104T191831Z
UID:10000230-1674147600-1674153000@www.laet.org
SUMMARY:Kingsport Bar Clinic
DESCRIPTION:General legal advice on civil matters (housing\, benefits\, taxes\, estate\, family\, property\, landlord/tenant\, contract\, etc.) \nThursday\, January 19\, 2023 \n5:00 pm to 6:30 pm \nVO Dobbins Community Center\, 301 Louis St\, Kingsport\, TN 37660
URL:https://www.laet.org/event/kingsport-bar-clinic-7/
LOCATION:TN
ATTACH;FMTTYPE=image/png:https://www.laet.org/wp-content/uploads/2022/12/Kingsport-Bar-Clinic-600-x-600-8.png
END:VEVENT
BEGIN:VEVENT
DTSTART;TZID=UTC:20230123T110000
DTEND;TZID=UTC:20230123T140000
DTSTAMP:20260419T113753
CREATED:20230118T000415Z
LAST-MODIFIED:20230118T000415Z
UID:10000263-1674471600-1674482400@www.laet.org
SUMMARY:MARION COUNTY INTAKE - JUSTICE CENTER
DESCRIPTION:LEGAL AID OF EAST TENNESSEE  \n WILL CONDUCT LOCAL CLIENT INTAKE  INTERVIEW SESSIONS IN JASPER  \nat the  \nMarion County Justice Center   \nMonday\, January 23rd\, 2023   \nBeginning at 11:00am CST   \n  \nLegal Aid of East Tennessee is a FREE service for  \nlow income Tennesseans and senior Tennesseans with civil legal problems including  \nconsumer\, housing\, veteran’s benefits and government benefits issues such as  \n food stamps\, unemployment benefits\, and TennCare.   \n   \nFor more information call:  \nLegal Aid Chattanooga at 423-756-4013  \n  \nLegal Aid of East Tennessee\, Inc. is a nonprofit corporation funded by the  \nFederal Government\, through the Legal Services Corporation\, the State of Tennessee\, and  \nvarious other government and private grants and private contributions.  
URL:https://www.laet.org/event/marion-county-intake-justice-center-7/
LOCATION:Marion County Justice Center\, TN\, United States
END:VEVENT
BEGIN:VEVENT
DTSTART;TZID=UTC:20230124T100000
DTEND;TZID=UTC:20230124T140000
DTSTAMP:20260419T113753
CREATED:20230117T215746Z
LAST-MODIFIED:20230117T215753Z
UID:10000260-1674554400-1674568800@www.laet.org
SUMMARY:BLEDSOE COUNTY INTAKE - JUSTICE CENTER
DESCRIPTION:LEGAL AID OF EAST TENNESSEE  \nWILL CONDUCT LOCAL CLIENT INTAKE  INTERVIEW SESSIONS IN PIKEVILLE \n  \nBledsoe County Courthouse  \nTuesday\, January 24th\, 2023 \nBeginning at 10:00 am CST  \n  \nLegal Aid of East Tennessee is a FREE service for low-income Tennesseans and senior Tennesseans with civil legal problems including consumer\, housing\, veteran’s benefits\, and government benefits issues such as food stamps\, unemployment benefits\, and TennCare.   \nFor more information call: Legal Aid Chattanooga at 423-756-4013  \nLegal Aid of East Tennessee\, Inc. is a nonprofit corporation funded by the Federal Government\, through the Legal Services Corporation\, the State of Tennessee\, and various other government and private grants and private contributions.  
URL:https://www.laet.org/event/bledsoe-county-intake-justice-center-6/
LOCATION:Bledsoe County Courthouse\, TN\, United States
END:VEVENT
BEGIN:VEVENT
DTSTART;TZID=UTC:20230128T100000
DTEND;TZID=UTC:20230128T140000
DTSTAMP:20260419T113753
CREATED:20230214T212907Z
LAST-MODIFIED:20230214T212948Z
UID:10000265-1674900000-1674914400@www.laet.org
SUMMARY:BLEDSOE COUNTY INTAKE - JUSTICE CENTER
DESCRIPTION:LEGAL AID OF EAST TENNESSEE  \nWILL CONDUCT LOCAL CLIENT INTAKE  INTERVIEW SESSIONS IN PIKEVILLE \n  \nBledsoe County Courthouse  \nTuesday\, February 28th\, 2023 \nBeginning at 10:00 am CST  \n  \nLegal Aid of East Tennessee is a FREE service for low-income Tennesseans and senior Tennesseans with civil legal problems including consumer\, housing\, veteran’s benefits\, and government benefits issues such as food stamps\, unemployment benefits\, and TennCare.   \nFor more information call: Legal Aid Chattanooga at 423-756-4013  \nLegal Aid of East Tennessee\, Inc. is a nonprofit corporation funded by the Federal Government\, through the Legal Services Corporation\, the State of Tennessee\, and various other government and private grants and private contributions.  
URL:https://www.laet.org/event/bledsoe-county-intake-justice-center-7/
LOCATION:Bledsoe County Courthouse\, TN\, United States
END:VEVENT
BEGIN:VEVENT
DTSTART;TZID=UTC:20230131T110000
DTEND;TZID=UTC:20230131T150000
DTSTAMP:20260419T113753
CREATED:20230117T222823Z
LAST-MODIFIED:20230117T222823Z
UID:10000261-1675162800-1675177200@www.laet.org
SUMMARY:SEQUATCHIE COUNTY INTAKE - JUSTICE CENTER
DESCRIPTION:LEGAL AID OF EAST TENNESSEE\nWILL CONDUCT LOCAL CLIENT INTAKE INTERVIEW SESSIONS IN DUNLAP \nSequatchie County Chancery (Old) Courthouse \nTuesday\, January 31st\, 2023 \nBeginning at 11:00am CST \nLegal Aid of East Tennessee is a FREE service for low-income Tennesseans and\nsenior(60+) Tennesseans with civil (non-criminal) legal issues including\nconsumer\, housing\, veteran’s benefits and government benefits issues such a\nfood stamps\, unemployment benefits and TennCare. \nFor more information call:\nLegal Aid Chattanooga 423-756-4013 \nLegal Aid of East Tennessee\, Inc. is a nonprofit corporation funded by the Federal\nGovernment\, through the Legal Services Corporation\, the State of Tennessee\, and various\nother government and private grants and private contributions.
URL:https://www.laet.org/event/sequatchie-county-intake-justice-center-7/
LOCATION:TN
END:VEVENT
END:VCALENDAR