BEGIN:VCALENDAR
VERSION:2.0
PRODID:-//Legal Aid of East Tennessee - ECPv6.15.20//NONSGML v1.0//EN
CALSCALE:GREGORIAN
METHOD:PUBLISH
X-WR-CALNAME:Legal Aid of East Tennessee
X-ORIGINAL-URL:https://www.laet.org
X-WR-CALDESC:Events for Legal Aid of East Tennessee
REFRESH-INTERVAL;VALUE=DURATION:PT1H
X-Robots-Tag:noindex
X-PUBLISHED-TTL:PT1H
BEGIN:VTIMEZONE
TZID:UTC
BEGIN:STANDARD
TZOFFSETFROM:+0000
TZOFFSETTO:+0000
TZNAME:UTC
DTSTART:20210101T000000
END:STANDARD
END:VTIMEZONE
BEGIN:VEVENT
DTSTART;TZID=UTC:20221103T170000
DTEND;TZID=UTC:20221103T200000
DTSTAMP:20260419T144423
CREATED:20220623T211109Z
LAST-MODIFIED:20220826T191201Z
UID:10000141-1667494800-1667505600@www.laet.org
SUMMARY:Pro Bono Night - Knoxville Area
DESCRIPTION:    \n  \n  \nSince 2010\, pro bono attorneys have donated their time on more than 10\,000 cases at Legal Aid of East Tennessee for low-income members of our community. These lawyers are an essential part of our mission — and likewise\, we provide a critical access point for those looking to give back.  Join us on this special night to celebrate pro bono work and all of the wonderful attorneys and community partners who make this possible. \n  \nClick HERE for tickets.
URL:https://www.laet.org/event/pro-bono-night-knoxville-area/
LOCATION:The Standard Knoxville\, 416 W. Jackson Avenue\, Knoxville\, TN\, 37902\, United States
ATTACH;FMTTYPE=image/png:https://www.laet.org/wp-content/uploads/2022/06/Pro-Bono-Squares-General-Calendar-7.png
END:VEVENT
BEGIN:VEVENT
DTSTART;TZID=UTC:20221109T120000
DTEND;TZID=UTC:20221109T140000
DTSTAMP:20260419T144423
CREATED:20220602T180712Z
LAST-MODIFIED:20220602T180712Z
UID:10000208-1667995200-1668002400@www.laet.org
SUMMARY:Free Legal Advice Clinic for Veterans
DESCRIPTION:Any veteran seeking legal help is encouraged to attend the Legal Advice Clinic for Veterans on November 9th\, 2022 from 12:00 p.m. to 2:00 p.m. \nVeterans who are not able to attend the clinic in person are encouraged to continue to use the telephone clinic option.  Preregistration is required for telephone clinic and veterans are asked to call Legal Aid of East Tennessee at (865)637-0484 to preregister. \nThis is a general advice clinic for a wide variety of legal issues\, including family law\, landlord/tenant\, bankruptcy\, criminal defense\, consumer protection\, contract disputes\, child support\, and personal injury\, among other issues.
URL:https://www.laet.org/event/free-legal-advice-clinic-for-veterans-5/
LOCATION:Knox County Public Defender’s Community Law Office\, 1101 Liberty Street\, Knoxville\, TN\, 37919
ATTACH;FMTTYPE=image/png:https://www.laet.org/wp-content/uploads/2022/06/Copy-of-Veterans-Legal-Advice-Clinic-Every-2nd-Wed-1-1.png
END:VEVENT
BEGIN:VEVENT
DTSTART;TZID=UTC:20221110T140000
DTEND;TZID=UTC:20221110T170000
DTSTAMP:20260419T144423
CREATED:20221107T221255Z
LAST-MODIFIED:20221107T221255Z
UID:10000226-1668088800-1668099600@www.laet.org
SUMMARY:RHEA COUNTY INTAKE - JUSTICE CENTER
DESCRIPTION:LEGAL AID OF EAST TENNESSEE\nwill conduct local client intake interview sessions at the Rhea County Justice Center \n7824 Rhea County Hwy\, Dayton TN 37321\nThursday\, November 10th\, 2022\nBeginning at 2:00pm ET \nLegal Aid of East Tennessee is a FREE service for low-income Tennesseans and\nsenior (60+) Tennesseans with civil (non-criminal) legal issues including\nconsumer\, housing\, veteran’s benefits and government benefits issues such a\nfood stamps\, unemployment benefits and TennCare. \nFor more information call\nLegal Aid’s Chattanooga Office at 756-4013 \nLegal Aid of East Tennessee\, Inc. is a nonprofit corporation funded by the\nFederal Government\, through the Legal Services Corporation\, the State of Tennessee and\nvarious other government and private grants and private contributions.
URL:https://www.laet.org/event/rhea-county-intake-justice-center-6/
LOCATION:Rhea County Justice Center\, 7824 Rhea County Hwy\, Dayton\, TN - Tennessee\, 37321
END:VEVENT
BEGIN:VEVENT
DTSTART;TZID=UTC:20221112T090000
DTEND;TZID=UTC:20221112T120000
DTSTAMP:20260419T144423
CREATED:20220928T231021Z
LAST-MODIFIED:20220929T201758Z
UID:10000149-1668243600-1668254400@www.laet.org
SUMMARY:Simple Wills Clinic
DESCRIPTION:Location: Lincoln Memorial University \nDate: November 11th \nTime: 9 AM to 12 PM \nMust qualify and pre-register for a time slot by October 28th \nPlease bring a valid photo ID \nCall 865-637-0484 \n 
URL:https://www.laet.org/event/simple-wills-clinic/
LOCATION:TN
ATTACH;FMTTYPE=image/png:https://www.laet.org/wp-content/uploads/2022/09/Copy-of-111222-Clinic-Flyer-Facebook-Cover-600-×-600-px.png
END:VEVENT
BEGIN:VEVENT
DTSTART;TZID=UTC:20221116T140000
DTEND;TZID=UTC:20221116T163000
DTSTAMP:20260419T144423
CREATED:20221108T021922Z
LAST-MODIFIED:20221108T021922Z
UID:10000229-1668607200-1668616200@www.laet.org
SUMMARY:Bradley County Expungement Clinic
DESCRIPTION:When: \nWednesday\, November 16th\n2:00pm – 4:30pm \nWhere: \nBradley County Justice Center\n2230 Blythe Ave. SE\, Cleveland\, TN \nQuestions: \nCall 423-756-4013
URL:https://www.laet.org/event/bradley-county-expungement-clinic/
LOCATION:TN
ATTACH;FMTTYPE=image/png:https://www.laet.org/wp-content/uploads/2022/11/Expungement-Clinic-InstagramFBLinkedIn.png
END:VEVENT
BEGIN:VEVENT
DTSTART;TZID=UTC:20221117T163000
DTEND;TZID=UTC:20221117T183000
DTSTAMP:20260419T144423
CREATED:20220706T223635Z
LAST-MODIFIED:20221019T200526Z
UID:10000216-1668702600-1668709800@www.laet.org
SUMMARY:Kingsport Bar Clinic
DESCRIPTION:General legal advice on civil matters (housing\, benefits\, taxes\, estate\, family\, property\, landlord/tenant\, contract\, etc.)
URL:https://www.laet.org/event/kingsport-bar-clinic-5/
LOCATION:USW Building\, 243 E Charlemont Avenue\, Kingsport\, Tennessee\, 37660\, United States
ATTACH;FMTTYPE=image/png:https://www.laet.org/wp-content/uploads/2022/07/White-Green-Minimalist-Modern-Spa-Flyer-2.png
END:VEVENT
BEGIN:VEVENT
DTSTART;TZID=UTC:20221122T100000
DTEND;TZID=UTC:20221122T140000
DTSTAMP:20260419T144423
CREATED:20221107T221122Z
LAST-MODIFIED:20221107T221122Z
UID:10000225-1669111200-1669125600@www.laet.org
SUMMARY:BLEDSOE COUNTY INTAKE - JUSTICE CENTER
DESCRIPTION:LEGAL AID OF EAST TENNESSEE  \nWILL CONDUCT LOCAL CLIENT INTAKE  INTERVIEW SESSIONS IN PIKEVILLE \n  \nBledsoe County Courthouse  \nTuesday\, November 22nd\, 2022  \nBeginning at 10:00 am CST  \n  \nLegal Aid of East Tennessee is a FREE service for low-income Tennesseans and senior Tennesseans with civil legal problems including consumer\, housing\, veteran’s benefits\, and government benefits issues such as food stamps\, unemployment benefits\, and TennCare.   \nFor more information call: Legal Aid Chattanooga at 423-756-4013  \nLegal Aid of East Tennessee\, Inc. is a nonprofit corporation funded by the Federal Government\, through the Legal Services Corporation\, the State of Tennessee\, and various other government and private grants and private contributions.  
URL:https://www.laet.org/event/bledsoe-county-intake-justice-center-4/
LOCATION:Bledsoe County Courthouse\, TN\, United States
END:VEVENT
BEGIN:VEVENT
DTSTART;TZID=UTC:20221122T110000
DTEND;TZID=UTC:20221122T140000
DTSTAMP:20260419T144423
CREATED:20221107T221403Z
LAST-MODIFIED:20221107T221403Z
UID:10000227-1669114800-1669125600@www.laet.org
SUMMARY:MARION COUNTY INTAKE - JUSTICE CENTER
DESCRIPTION:LEGAL AID OF EAST TENNESSEE  \n WILL CONDUCT LOCAL CLIENT INTAKE  INTERVIEW SESSIONS IN JASPER  \nat the  \nMarion County Justice Center   \nTuesday\, November 22nd\, 2022   \nBeginning at 11:00am CST   \n  \nLegal Aid of East Tennessee is a FREE service for  \nlow income Tennesseans and senior Tennesseans with civil legal problems including  \nconsumer\, housing\, veteran’s benefits and government benefits issues such as  \n food stamps\, unemployment benefits\, and TennCare.   \n   \nFor more information call:  \nLegal Aid Chattanooga at 423-756-4013  \n  \nLegal Aid of East Tennessee\, Inc. is a nonprofit corporation funded by the  \nFederal Government\, through the Legal Services Corporation\, the State of Tennessee\, and  \nvarious other government and private grants and private contributions.  
URL:https://www.laet.org/event/marion-county-intake-justice-center-5/
LOCATION:Marion County Justice Center\, TN\, United States
END:VEVENT
BEGIN:VEVENT
DTSTART;TZID=UTC:20221129T110000
DTEND;TZID=UTC:20221129T150000
DTSTAMP:20260419T144423
CREATED:20221107T221517Z
LAST-MODIFIED:20221107T221601Z
UID:10000228-1669719600-1669734000@www.laet.org
SUMMARY:SEQUATCHIE COUNTY INTAKE
DESCRIPTION:LEGAL AID OF EAST TENNESSEE\nWILL CONDUCT LOCAL CLIENT INTAKE INTERVIEW SESSIONS IN DUNLAP \nLocation: Sequatchie County Chancery (Old) Courthouse \nMonday\, November 29th\, 2022\nBeginning at 11:00am CST \nLegal Aid of East Tennessee is a FREE service for low-income Tennesseans and\nsenior(60+) Tennesseans with civil (non-criminal) legal issues including\nconsumer\, housing\, veteran’s benefits and government benefits issues such a\nfood stamps\, unemployment benefits and TennCare. \nFor more information call:\nLegal Aid Chattanooga 423-756-4013 \nLegal Aid of East Tennessee\, Inc. is a nonprofit corporation funded by the Federal\nGovernment\, through the Legal Services Corporation\, the State of Tennessee\, and various\nother government and private grants and private contributions.
URL:https://www.laet.org/event/sequatchie-county-intake-justice-center-5/
LOCATION:TN
END:VEVENT
BEGIN:VEVENT
DTSTART;TZID=UTC:20221130T150000
DTEND;TZID=UTC:20221130T160000
DTSTAMP:20260419T144423
CREATED:20220606T223727Z
LAST-MODIFIED:20220606T223727Z
UID:10000214-1669820400-1669824000@www.laet.org
SUMMARY:Executive Committee Meeting - Board of Directors
DESCRIPTION:
URL:https://www.laet.org/event/executive-committee-meeting-board-of-directors-4/
LOCATION:TN
END:VEVENT
END:VCALENDAR