BEGIN:VCALENDAR
VERSION:2.0
PRODID:-//Legal Aid of East Tennessee - ECPv6.15.20//NONSGML v1.0//EN
CALSCALE:GREGORIAN
METHOD:PUBLISH
X-ORIGINAL-URL:https://www.laet.org
X-WR-CALDESC:Events for Legal Aid of East Tennessee
REFRESH-INTERVAL;VALUE=DURATION:PT1H
X-Robots-Tag:noindex
X-PUBLISHED-TTL:PT1H
BEGIN:VTIMEZONE
TZID:UTC
BEGIN:STANDARD
TZOFFSETFROM:+0000
TZOFFSETTO:+0000
TZNAME:UTC
DTSTART:20210101T000000
END:STANDARD
END:VTIMEZONE
BEGIN:VEVENT
DTSTART;TZID=UTC:20220713T120000
DTEND;TZID=UTC:20220713T140000
DTSTAMP:20260419T221158
CREATED:20220602T180154Z
LAST-MODIFIED:20220602T180154Z
UID:10000206-1657713600-1657720800@www.laet.org
SUMMARY:Free Legal Advice Clinic for Veterans
DESCRIPTION:Any veteran seeking legal help is encouraged to attend the Legal Advice Clinic for Veterans on July 13th\, 2022 from 12:00 p.m. to 2:00 p.m. \nVeterans who are not able to attend the clinic in person are encouraged to continue to use the telephone clinic option.  Preregistration is required for telephone clinic and veterans are asked to call Legal Aid of East Tennessee at (865)637-0484 to preregister. \nThis is a general advice clinic for a wide variety of legal issues\, including family law\, landlord/tenant\, bankruptcy\, criminal defense\, consumer protection\, contract disputes\, child support\, and personal injury\, among other issues.
URL:https://www.laet.org/event/free-legal-advice-clinic-for-veterans-3/
LOCATION:Knox County Public Defender’s Community Law Office\, 1101 Liberty Street\, Knoxville\, TN\, 37919
ATTACH;FMTTYPE=image/png:https://www.laet.org/wp-content/uploads/2022/06/Copy-of-Veterans-Legal-Advice-Clinic-Every-2nd-Wed-1-1.png
END:VEVENT
BEGIN:VEVENT
DTSTART;TZID=UTC:20220714T140000
DTEND;TZID=UTC:20220714T160000
DTSTAMP:20260419T221158
CREATED:20220707T234725Z
LAST-MODIFIED:20220707T234725Z
UID:10000219-1657807200-1657814400@www.laet.org
SUMMARY:RHEA COUNTY INTAKE - JUSTICE CENTER
DESCRIPTION:LEGAL AID OF EAST TENNESSEE\nwill conduct local client intake interview sessions at the Rhea County Justice Center \n7824 Rhea County Hwy\, Dayton TN 37321\nThursday\, July 14\, 2022\nBeginning at 2:00pm ET \nLegal Aid of East Tennessee is a FREE service for low-income Tennesseans and\nsenior (60+) Tennesseans with civil (non-criminal) legal issues including\nconsumer\, housing\, veteran’s benefits and government benefits issues such a\nfood stamps\, unemployment benefits and TennCare. \nFor more information call\nLegal Aid’s Chattanooga Office at 756-4013 \nLegal Aid of East Tennessee\, Inc. is a nonprofit corporation funded by the\nFederal Government\, through the Legal Services Corporation\, the State of Tennessee and\nvarious other government and private grants and private contributions.
URL:https://www.laet.org/event/rhea-county-intake-justice-center-3/
LOCATION:Rhea County Justice Center\, 7824 Rhea County Hwy\, Dayton\, TN - Tennessee\, 37321
ATTACH;FMTTYPE=image/png:https://www.laet.org/wp-content/uploads/2022/07/Flier-Rhea-2-1.png
END:VEVENT
BEGIN:VEVENT
DTSTART;TZID=UTC:20220716T090000
DTEND;TZID=UTC:20220716T120000
DTSTAMP:20260419T221158
CREATED:20220706T220948Z
LAST-MODIFIED:20220706T220948Z
UID:10000142-1657962000-1657972800@www.laet.org
SUMMARY:Chattanooga FREE Legal Advice Clinic
DESCRIPTION:Legal Aid of East Tennessee and the Chattanooga Bar Association Young Lawyer’s Division are excited to bring you a FREE legal advice clinic on Saturday\, July 16th from 9am to 12pm at the Chattanooga Hamilton County Family Justice Center.\nAttorneys will be available to offer advice on a variety of civil legal issues including: adoption\, bankruptcy\, custody\, debt collection\, family law\, landlord-tenant\, social security\, wills\, worker’s comp.\, and more!
URL:https://www.laet.org/event/chattanooga-free-legal-advice-clinic/
LOCATION:Chattanooga Family Justice Center\, 5705 Uptain Road\, TN\, 3
ATTACH;FMTTYPE=image/png:https://www.laet.org/wp-content/uploads/2022/07/Copy-of-July-General-Advice-Clinic-2.png
END:VEVENT
BEGIN:VEVENT
DTSTART;TZID=UTC:20220721T163000
DTEND;TZID=UTC:20220721T183000
DTSTAMP:20260419T221158
CREATED:20220706T221426Z
LAST-MODIFIED:20220706T223714Z
UID:10000143-1658421000-1658428200@www.laet.org
SUMMARY:Kingsport Bar Clinic
DESCRIPTION:General legal advice on civil matters (housing\, benefits\, taxes\, estate\, family\, property\, landlord/tenant\, contract\, etc.)
URL:https://www.laet.org/event/kingsport-bar-clinic/
LOCATION:USW Building\, 243 E Charlemont Avenue\, Kingsport\, Tennessee\, 37660\, United States
ATTACH;FMTTYPE=image/png:https://www.laet.org/wp-content/uploads/2022/07/White-Green-Minimalist-Modern-Spa-Flyer-2.png
END:VEVENT
BEGIN:VEVENT
DTSTART;TZID=UTC:20220722T110000
DTEND;TZID=UTC:20220722T150000
DTSTAMP:20260419T221158
CREATED:20220707T235649Z
LAST-MODIFIED:20220707T235649Z
UID:10000220-1658487600-1658502000@www.laet.org
SUMMARY:SEQUATCHIE COUNTY INTAKE - JUSTICE CENTER
DESCRIPTION:LEGAL AID OF EAST TENNESSEE\nWILL CONDUCT LOCAL CLIENT INTAKE INTERVIEW SESSIONS IN DUNLAP \nSequatchie County Chancery (Old) Courthouse \nThursday\, July 22\, 2022\nBeginning at 11:00am CST \nLegal Aid of East Tennessee is a FREE service for low income Tennesseans and\nsenior(60+) Tennesseans with civil (non-criminal) legal issues including\nconsumer\, housing\, veteran’s benefits and government benefits issues such a\nfood stamps\, unemployment benefits and TennCare. \nFor more information call:\nLegal Aid Chattanooga 423-756-4013 \nLegal Aid of East Tennessee\, Inc. is a nonprofit corporation funded by the Federal\nGovernment\, through the Legal Services Corporation\, the State of Tennessee\, and various\nother government and private grants and private contributions.
URL:https://www.laet.org/event/sequatchie-county-intake-justice-center-2/
LOCATION:TN
ATTACH;FMTTYPE=image/png:https://www.laet.org/wp-content/uploads/2022/07/Flier-Sequatchie.png
END:VEVENT
BEGIN:VEVENT
DTSTART;TZID=UTC:20220723T090000
DTEND;TZID=UTC:20220723T120000
DTSTAMP:20260419T221158
CREATED:20220602T181803Z
LAST-MODIFIED:20220607T223654Z
UID:10000212-1658566800-1658577600@www.laet.org
SUMMARY:Family Law and Housing Clinic - Knoxville
DESCRIPTION:Attorneys will be available to provide legal advice on a wide range of issues including: \n\nChild Support\nChild Custody\nOrders of Protection\nDivorce\nAdoption\nDomestic Violence\n\nFor more information\, or to volunteer\, call (865) 637-0484.
URL:https://www.laet.org/event/family-law-clinic-knoxville/
LOCATION:YWCA Phyllis Wheatley Center\, 124 S Cruze Street\, Knoxville\, TN\, 37915\, United States
ATTACH;FMTTYPE=image/png:https://www.laet.org/wp-content/uploads/2022/06/723-Knoxville-Family-Law-Clinic.png
END:VEVENT
BEGIN:VEVENT
DTSTART;TZID=UTC:20220725T110000
DTEND;TZID=UTC:20220725T150000
DTSTAMP:20260419T221158
CREATED:20220707T235844Z
LAST-MODIFIED:20220707T235844Z
UID:10000221-1658746800-1658761200@www.laet.org
SUMMARY:MARION COUNTY INTAKE - JUSTICE CENTER
DESCRIPTION:LEGAL AID OF EAST TENNESSEE  \n WILL CONDUCT LOCAL CLIENT INTAKE  INTERVIEW SESSIONS IN JASPER  \nat the  \nMarion County Justice Center   \nTuesday\, July 25\, 2022   \nBeginning at 11:00am CST   \n  \nLegal Aid of East Tennessee is a FREE service for  \nlow income Tennesseans and senior Tennesseans with civil legal problems including  \nconsumer\, housing\, veteran’s benefits and government benefits issues such as  \n food stamps\, unemployment benefits\, and TennCare.   \n   \nFor more information call:  \nLegal Aid Chattanooga at 423-756-4013  \n  \nLegal Aid of East Tennessee\, Inc. is a nonprofit corporation funded by the  \nFederal Government\, through the Legal Services Corporation\, the State of Tennessee\, and  \nvarious other government and private grants and private contributions.   \n 
URL:https://www.laet.org/event/marion-county-intake-justice-center-2/
LOCATION:Marion County Justice Center\, TN\, United States
ATTACH;FMTTYPE=image/png:https://www.laet.org/wp-content/uploads/2022/07/Flier-Marion.png
END:VEVENT
BEGIN:VEVENT
DTSTART;TZID=UTC:20220727T163000
DTEND;TZID=UTC:20220727T183000
DTSTAMP:20260419T221158
CREATED:20220719T191408Z
LAST-MODIFIED:20220719T191419Z
UID:10000222-1658939400-1658946600@www.laet.org
SUMMARY:FREE FAMILY LAW CLINIC- Johnson City
DESCRIPTION:Attorneys will be available to provide legal advice on a wide range of issues including: Child Support\, Child Custody\, Orders of Protection\, Divorce\, Adoption\, and Domestic Violence \nFor more information\, or to volunteer\, call 423-794-2496.
URL:https://www.laet.org/event/free-family-law-clinic-johnson-city/
LOCATION:Johnson City Washington County Family Justice Center\, 196 Montgomery St\, Johnson City\, TN\, 37604\, United States
ATTACH;FMTTYPE=image/png:https://www.laet.org/wp-content/uploads/2022/07/Square-727-Family-Law-Clinic.png
END:VEVENT
END:VCALENDAR