BEGIN:VCALENDAR
VERSION:2.0
PRODID:-//Legal Aid of East Tennessee - ECPv6.15.20//NONSGML v1.0//EN
CALSCALE:GREGORIAN
METHOD:PUBLISH
X-WR-CALNAME:Legal Aid of East Tennessee
X-ORIGINAL-URL:https://www.laet.org
X-WR-CALDESC:Events for Legal Aid of East Tennessee
REFRESH-INTERVAL;VALUE=DURATION:PT1H
X-Robots-Tag:noindex
X-PUBLISHED-TTL:PT1H
BEGIN:VTIMEZONE
TZID:America/New_York
BEGIN:DAYLIGHT
TZOFFSETFROM:-0500
TZOFFSETTO:-0400
TZNAME:EDT
DTSTART:20230312T070000
END:DAYLIGHT
BEGIN:STANDARD
TZOFFSETFROM:-0400
TZOFFSETTO:-0500
TZNAME:EST
DTSTART:20231105T060000
END:STANDARD
BEGIN:DAYLIGHT
TZOFFSETFROM:-0500
TZOFFSETTO:-0400
TZNAME:EDT
DTSTART:20240310T070000
END:DAYLIGHT
BEGIN:STANDARD
TZOFFSETFROM:-0400
TZOFFSETTO:-0500
TZNAME:EST
DTSTART:20241103T060000
END:STANDARD
BEGIN:DAYLIGHT
TZOFFSETFROM:-0500
TZOFFSETTO:-0400
TZNAME:EDT
DTSTART:20250309T070000
END:DAYLIGHT
BEGIN:STANDARD
TZOFFSETFROM:-0400
TZOFFSETTO:-0500
TZNAME:EST
DTSTART:20251102T060000
END:STANDARD
END:VTIMEZONE
BEGIN:VTIMEZONE
TZID:UTC
BEGIN:STANDARD
TZOFFSETFROM:+0000
TZOFFSETTO:+0000
TZNAME:UTC
DTSTART:20230101T000000
END:STANDARD
END:VTIMEZONE
BEGIN:VEVENT
DTSTART;TZID=America/New_York:20240523T143000
DTEND;TZID=America/New_York:20240523T163000
DTSTAMP:20260421T165734
CREATED:20240509T165652Z
LAST-MODIFIED:20240509T165652Z
UID:10000362-1716474600-1716481800@www.laet.org
SUMMARY:
DESCRIPTION:LAET is offering a FREE Child Support Legal Clinic.\nMay 23\, 2024.\nBe sure to call the number listed beforehand to pre-register in order to ensure you are seen.\nPre-registration is REQUIRED.
URL:https://www.laet.org/event/2874/
LOCATION:Hamilton County Juvenile Courts Building\, 1600 East Third Street\, Chattanooga\, TN\, 37404\, United States
ATTACH;FMTTYPE=image/png:https://www.laet.org/wp-content/uploads/2024/05/Image_Editor-1.png
END:VEVENT
BEGIN:VEVENT
DTSTART;TZID=UTC:20240528T110000
DTEND;TZID=UTC:20240528T130000
DTSTAMP:20260421T165734
CREATED:20240505T184434Z
LAST-MODIFIED:20240505T184434Z
UID:10000356-1716894000-1716901200@www.laet.org
SUMMARY:Sequatchie County Intake/Interview Sessions
DESCRIPTION:LEGAL AID OF EAST TENNESSEE\nWILL CONDUCT LOCAL CLIENT INTAKE INTERVIEW SESSIONS IN DUNLAP \nSequatchie County Chancery (Old) Courthouse \nTuesday\, May 28\, 2024 \nBeginning at 11:00 a.m. CT \nLegal Aid of East Tennessee is a FREE service for low-income Tennesseans and\nolder adults with civil legal problems\, examples being consumer\, housing\, veteran’s/government benefits\,\ndomestic violence issues\, and adoption.\nFor more information call Legal Aid’s Chattanooga office at 423-756-4013
URL:https://www.laet.org/event/sequatchie-county-intake-interview-sessions-3/
LOCATION:Sequatchie County Chancery Courthouse\, 22 Cherry Street\, Dunlap\, TN\, 37327\, United States
ATTACH;FMTTYPE=image/png:https://www.laet.org/wp-content/uploads/2024/05/Copy-of-SequatchieDunlap-May-2024.png
END:VEVENT
BEGIN:VEVENT
DTSTART;TZID=UTC:20240530T110000
DTEND;TZID=UTC:20240530T130000
DTSTAMP:20260421T165734
CREATED:20240505T190409Z
LAST-MODIFIED:20240505T190409Z
UID:10000358-1717066800-1717074000@www.laet.org
SUMMARY:Marion County Intake/Interview Sessions
DESCRIPTION:LEGAL AID OF EAST TENNESSEE  \n WILL CONDUCT LOCAL CLIENT INTAKE  INTERVIEW SESSIONS IN JASPER  \nat the  \nMarion County Justice Center   \nThursday\, May 30\, 2024   \nBeginning at 11:00 a.m. CT   \n  \nLegal Aid of East Tennessee is a FREE service for  \nlow income Tennesseans and senior adults with civil legal problems\, examples being consumer\, housing\, veteran’s/government benefits\, domestic violence issues\, and adoption.  \n   \nFor more information call Legal Aid’s Chattanooga office at 423-756-4013 
URL:https://www.laet.org/event/marion-county-intake-interview-sessions-3/
LOCATION:Marion County Justice Center\, TN\, United States
ATTACH;FMTTYPE=image/png:https://www.laet.org/wp-content/uploads/2024/05/JasperMarion-May-2024.png
END:VEVENT
BEGIN:VEVENT
DTSTART;TZID=UTC:20240601T090000
DTEND;TZID=UTC:20240601T110000
DTSTAMP:20260421T165734
CREATED:20240203T001352Z
LAST-MODIFIED:20240203T001608Z
UID:10000322-1717232400-1717239600@www.laet.org
SUMMARY:Washington County Legal Advice Clinic
DESCRIPTION:Free Legal Advice Clinic \nMonthly on the first Saturday (unless a holiday\, then the second Saturday)\nLocation: Good Samaritan Ministries\, Inc. \nSponsored by the Washington County Bar Association
URL:https://www.laet.org/event/washington-county-legal-advice-clinic/2024-06-01/
LOCATION:Good Samaritan Ministries\, Inc.\, 100 North Roan Street\, Johnson City\, TN\, 37601\, United States
ATTACH;FMTTYPE=image/jpeg:https://www.laet.org/wp-content/uploads/2024/02/Wash-Co-Clinic.jpg
END:VEVENT
BEGIN:VEVENT
DTSTART;TZID=America/New_York:20240606T140000
DTEND;TZID=America/New_York:20240606T160000
DTSTAMP:20260421T165734
CREATED:20240509T152917Z
LAST-MODIFIED:20240509T155422Z
UID:10000359-1717682400-1717689600@www.laet.org
SUMMARY:Polk County Expungement Clinic
DESCRIPTION:Our firm’s Chattanooga and Cleveland locations are working with the TBA: Young Lawyers Division to provide an expungement clinic at the Polk County Justice Center on Thursday\, June 6\, 2024.
URL:https://www.laet.org/event/2863/
LOCATION:polk county justice center\, 164 Industrial Access Circle\, Benton\, TN\, 37307\, United States
ATTACH;FMTTYPE=image/png:https://www.laet.org/wp-content/uploads/2024/05/Image_Editor-2.png
END:VEVENT
END:VCALENDAR