BEGIN:VCALENDAR
VERSION:2.0
PRODID:-//Legal Aid of East Tennessee - ECPv6.15.20//NONSGML v1.0//EN
CALSCALE:GREGORIAN
METHOD:PUBLISH
X-WR-CALNAME:Legal Aid of East Tennessee
X-ORIGINAL-URL:https://www.laet.org
X-WR-CALDESC:Events for Legal Aid of East Tennessee
REFRESH-INTERVAL;VALUE=DURATION:PT1H
X-Robots-Tag:noindex
X-PUBLISHED-TTL:PT1H
BEGIN:VTIMEZONE
TZID:UTC
BEGIN:STANDARD
TZOFFSETFROM:+0000
TZOFFSETTO:+0000
TZNAME:UTC
DTSTART:20230101T000000
END:STANDARD
END:VTIMEZONE
BEGIN:VEVENT
DTSTART;TZID=UTC:20240222T140000
DTEND;TZID=UTC:20240222T160000
DTSTAMP:20260421T123916
CREATED:20240127T002246Z
LAST-MODIFIED:20240127T002438Z
UID:10000315-1708610400-1708617600@www.laet.org
SUMMARY:Meigs County Intake/Interview Sessions
DESCRIPTION:LEGAL AID OF EAST TENNESSEE\nWILL CONDUCT LOCAL CLIENT INTAKE INTERVIEW SESSIONS IN DECATUR \nMeigs County Courthouse \nThursday\, February 22\, 2024 \nBeginning at 2:00 p.m. EST \nLegal Aid of East Tennessee is a FREE service for low-income Tennesseans and\nolder adults with civil legal problems\, examples being consumer\, housing\, veteran’s/government benefits\,\ndomestic violence issues\, and adoption.\nFor more information call Legal Aid’s Chattanooga office at 423-756-4013
URL:https://www.laet.org/event/sequatchie-county-intake-justice-center-15/
ATTACH;FMTTYPE=image/png:https://www.laet.org/wp-content/uploads/2024/01/Decatur-Feb-2024.png
END:VEVENT
BEGIN:VEVENT
DTSTART;TZID=UTC:20240223T100000
DTEND;TZID=UTC:20240223T140000
DTSTAMP:20260421T123916
CREATED:20240201T235407Z
LAST-MODIFIED:20240202T183755Z
UID:10000317-1708682400-1708696800@www.laet.org
SUMMARY:Bledsoe County Intake/Interview Sessions
DESCRIPTION:LEGAL AID OF EAST TENNESSEE  \nWILL CONDUCT LOCAL CLIENT INTAKE  INTERVIEW SESSIONS IN PIKEVILLE \n  \nBledsoe County Courthouse  \nFriday\, February 23\, 2024 \nBeginning at 10:00 am CST  \n  \nLegal Aid of East Tennessee is a FREE service for low-income Tennesseans and\nolder (60+) Tennesseans with civil (non-criminal) legal issues including\nconsumer\, housing\, veteran’s benefits\, government benefits\, domestic violence issues\, and adoption. \nFor more information call\nLegal Aid’s Chattanooga Office at 423-756-4013
URL:https://www.laet.org/event/bledsoe-county-intake-interview-sessions/
LOCATION:Bledsoe County Courthouse\, TN\, United States
ATTACH;FMTTYPE=image/png:https://www.laet.org/wp-content/uploads/2024/02/Pikeville-revised-Feb-2024.png
END:VEVENT
BEGIN:VEVENT
DTSTART;TZID=UTC:20240223T110000
DTEND;TZID=UTC:20240223T130000
DTSTAMP:20260421T123916
CREATED:20240213T235100Z
LAST-MODIFIED:20240213T235142Z
UID:10000340-1708686000-1708693200@www.laet.org
SUMMARY:Marion County Intake/Interview Sessions
DESCRIPTION:LEGAL AID OF EAST TENNESSEE  \n WILL CONDUCT LOCAL CLIENT INTAKE  INTERVIEW SESSIONS IN JASPER  \nat the  \nMarion County Justice Center   \nFriday\, February 23\, 2024   \nBeginning at 11:00 a.m. CST   \n  \nLegal Aid of East Tennessee is a FREE service for  \nlow income Tennesseans and senior adults with civil legal problems\, examples being consumer\, housing\, veteran’s/government benefits\, domestic violence issues\, and adoption.  \n   \nFor more information call Legal Aid’s Chattanooga office at 423-756-4013 
URL:https://www.laet.org/event/marion-county-intake-justice-center-15/
LOCATION:Marion County Justice Center\, TN\, United States
ATTACH;FMTTYPE=image/png:https://www.laet.org/wp-content/uploads/2024/02/Jasper-February-2024.png
END:VEVENT
BEGIN:VEVENT
DTSTART;TZID=UTC:20240229T110000
DTEND;TZID=UTC:20240229T130000
DTSTAMP:20260421T123916
CREATED:20240124T032715Z
LAST-MODIFIED:20240214T000932Z
UID:10000314-1709204400-1709211600@www.laet.org
SUMMARY:Sequatchie County Intake/Interview Sessions
DESCRIPTION:LEGAL AID OF EAST TENNESSEE\nWILL CONDUCT LOCAL CLIENT INTAKE INTERVIEW SESSIONS IN DUNLAP \nSequatchie County Chancery (Old) Courthouse \nThursday\, February 29\, 2024 \nBeginning at 11:00 a.m. CST \nLegal Aid of East Tennessee is a FREE service for low-income Tennesseans and\nolder adults with civil legal problems\, examples being consumer\, housing\, veteran’s/government benefits\,\ndomestic violence issues\, and adoption.\nFor more information call Legal Aid’s Chattanooga office at 423-756-4013
URL:https://www.laet.org/event/sequatchie-county-intake-justice-center-14/
ATTACH;FMTTYPE=image/png:https://www.laet.org/wp-content/uploads/2024/01/Sequatchie-County-Dunlap-February-2024-2.png
END:VEVENT
BEGIN:VEVENT
DTSTART;TZID=UTC:20240302T090000
DTEND;TZID=UTC:20240302T110000
DTSTAMP:20260421T123916
CREATED:20240203T001352Z
LAST-MODIFIED:20240203T001608Z
UID:10000319-1709370000-1709377200@www.laet.org
SUMMARY:Washington County Legal Advice Clinic
DESCRIPTION:Free Legal Advice Clinic \nMonthly on the first Saturday (unless a holiday\, then the second Saturday)\nLocation: Good Samaritan Ministries\, Inc. \nSponsored by the Washington County Bar Association
URL:https://www.laet.org/event/washington-county-legal-advice-clinic/2024-03-02/
LOCATION:Good Samaritan Ministries\, Inc.\, 100 North Roan Street\, Johnson City\, TN\, 37601\, United States
ATTACH;FMTTYPE=image/jpeg:https://www.laet.org/wp-content/uploads/2024/02/Wash-Co-Clinic.jpg
END:VEVENT
END:VCALENDAR