BEGIN:VCALENDAR
VERSION:2.0
PRODID:-//Legal Aid of East Tennessee - ECPv6.15.20//NONSGML v1.0//EN
CALSCALE:GREGORIAN
METHOD:PUBLISH
X-WR-CALNAME:Legal Aid of East Tennessee
X-ORIGINAL-URL:https://www.laet.org
X-WR-CALDESC:Events for Legal Aid of East Tennessee
REFRESH-INTERVAL;VALUE=DURATION:PT1H
X-Robots-Tag:noindex
X-PUBLISHED-TTL:PT1H
BEGIN:VTIMEZONE
TZID:America/New_York
BEGIN:DAYLIGHT
TZOFFSETFROM:-0500
TZOFFSETTO:-0400
TZNAME:EDT
DTSTART:20230312T070000
END:DAYLIGHT
BEGIN:STANDARD
TZOFFSETFROM:-0400
TZOFFSETTO:-0500
TZNAME:EST
DTSTART:20231105T060000
END:STANDARD
BEGIN:DAYLIGHT
TZOFFSETFROM:-0500
TZOFFSETTO:-0400
TZNAME:EDT
DTSTART:20240310T070000
END:DAYLIGHT
BEGIN:STANDARD
TZOFFSETFROM:-0400
TZOFFSETTO:-0500
TZNAME:EST
DTSTART:20241103T060000
END:STANDARD
BEGIN:DAYLIGHT
TZOFFSETFROM:-0500
TZOFFSETTO:-0400
TZNAME:EDT
DTSTART:20250309T070000
END:DAYLIGHT
BEGIN:STANDARD
TZOFFSETFROM:-0400
TZOFFSETTO:-0500
TZNAME:EST
DTSTART:20251102T060000
END:STANDARD
END:VTIMEZONE
BEGIN:VTIMEZONE
TZID:UTC
BEGIN:STANDARD
TZOFFSETFROM:+0000
TZOFFSETTO:+0000
TZNAME:UTC
DTSTART:20230101T000000
END:STANDARD
END:VTIMEZONE
BEGIN:VEVENT
DTSTART;TZID=America/New_York:20241211T080000
DTEND;TZID=America/New_York:20241211T170000
DTSTAMP:20260420T214309
CREATED:20240904T203518Z
LAST-MODIFIED:20240904T203518Z
UID:10000384-1733904000-1733936400@www.laet.org
SUMMARY:John T. O'Connor Senior Center Legal Clinic
DESCRIPTION:Legal Advice Clinic at the John T. O’Connor Senior Center every second Wednesday of the month from 10:00 a.m. through 12:30 p.m.\nHeld in conjunction with the Knoxville-Knox County CAC Office on Aging\, this opportunity is by appointment only.\nOpen to those aged 60 and above living in Knox County.\nThere are no income restrictions\, but pre-registration is REQUIRED.\nCall 865.637.0484 to reserve your spot.
URL:https://www.laet.org/event/john-t-oconnor-senior-center-legal-clinic/2024-12-11/
LOCATION:John T. O’Connor Senior Center\, 611 Winona Street\, Knoxville\, TN\, 37917\, United States
ATTACH;FMTTYPE=image/jpeg:https://www.laet.org/wp-content/uploads/2024/09/455044296_894585392708940_467271165368288636_n.jpg
END:VEVENT
BEGIN:VEVENT
DTSTART;TZID=UTC:20241211T120000
DTEND;TZID=UTC:20241211T140000
DTSTAMP:20260420T214309
CREATED:20240124T013340Z
LAST-MODIFIED:20240603T215826Z
UID:10000310-1733918400-1733925600@www.laet.org
SUMMARY:Free Legal Advice Clinic for Veterans
DESCRIPTION:Any veteran seeking legal help is encouraged to attend the free Legal Advice Clinic for Veterans from 12:00 p.m. to 2:00 p.m. NOTE: This is an ADVICE-ONLY clinic. \nVeterans not able to attend in person are encouraged to use the telephone option. Preregistration is required for the telephone option\, and veterans are asked to call Legal Aid of East Tennessee at (865) 637-0484 to do so. \nThis is a general advice clinic\, and consultations will be provided for a wide variety of legal issues including family law\, landlord/tenant\, bankruptcy\, criminal defense\, consumer protection\, contract disputes\, child support\, and personal injury\, among other issues.
URL:https://www.laet.org/event/free-legal-advice-clinic-for-veterans-24/
LOCATION:Knox County Public Defender’s Community Law Office\, 1101 Liberty Street\, Knoxville\, TN\, 37919
ATTACH;FMTTYPE=image/png:https://www.laet.org/wp-content/uploads/2022/12/Untitled-design-3.png
END:VEVENT
END:VCALENDAR