BEGIN:VCALENDAR
VERSION:2.0
PRODID:-//Legal Aid of East Tennessee - ECPv6.15.20//NONSGML v1.0//EN
CALSCALE:GREGORIAN
METHOD:PUBLISH
X-WR-CALNAME:Legal Aid of East Tennessee
X-ORIGINAL-URL:https://www.laet.org
X-WR-CALDESC:Events for Legal Aid of East Tennessee
REFRESH-INTERVAL;VALUE=DURATION:PT1H
X-Robots-Tag:noindex
X-PUBLISHED-TTL:PT1H
BEGIN:VTIMEZONE
TZID:America/New_York
BEGIN:DAYLIGHT
TZOFFSETFROM:-0500
TZOFFSETTO:-0400
TZNAME:EDT
DTSTART:20230312T070000
END:DAYLIGHT
BEGIN:STANDARD
TZOFFSETFROM:-0400
TZOFFSETTO:-0500
TZNAME:EST
DTSTART:20231105T060000
END:STANDARD
BEGIN:DAYLIGHT
TZOFFSETFROM:-0500
TZOFFSETTO:-0400
TZNAME:EDT
DTSTART:20240310T070000
END:DAYLIGHT
BEGIN:STANDARD
TZOFFSETFROM:-0400
TZOFFSETTO:-0500
TZNAME:EST
DTSTART:20241103T060000
END:STANDARD
BEGIN:DAYLIGHT
TZOFFSETFROM:-0500
TZOFFSETTO:-0400
TZNAME:EDT
DTSTART:20250309T070000
END:DAYLIGHT
BEGIN:STANDARD
TZOFFSETFROM:-0400
TZOFFSETTO:-0500
TZNAME:EST
DTSTART:20251102T060000
END:STANDARD
END:VTIMEZONE
BEGIN:VEVENT
DTSTART;TZID=America/New_York:20241015T163000
DTEND;TZID=America/New_York:20241015T173000
DTSTAMP:20260420T122148
CREATED:20240904T183016Z
LAST-MODIFIED:20240904T183016Z
UID:10000380-1729009800-1729013400@www.laet.org
SUMMARY:Virtual Region-wide Name Change Clinic
DESCRIPTION:Virtual Name Change Clinic for all 26 counties in our service area.\nPre-registration is mandatory. The deadline for pre-registration is Thursday\, October 10\, 2024.\nYou may pre-register by calling the number listed OR simply utilizing the QR Code. \nThose who register will be emailed a link for the Name Change Clinic\, which will be held on October 15\, 2024\, via Zoom. \nThis clinic is FREE to qualified registrants.
URL:https://www.laet.org/event/virtual-region-wide-name-change-clinic/
LOCATION:TN
ATTACH;FMTTYPE=image/png:https://www.laet.org/wp-content/uploads/2024/09/LAET-ALL.png
END:VEVENT
END:VCALENDAR