BEGIN:VCALENDAR
VERSION:2.0
PRODID:-//Legal Aid of East Tennessee - ECPv6.15.20//NONSGML v1.0//EN
CALSCALE:GREGORIAN
METHOD:PUBLISH
X-ORIGINAL-URL:https://www.laet.org
X-WR-CALDESC:Events for Legal Aid of East Tennessee
REFRESH-INTERVAL;VALUE=DURATION:PT1H
X-Robots-Tag:noindex
X-PUBLISHED-TTL:PT1H
BEGIN:VTIMEZONE
TZID:UTC
BEGIN:STANDARD
TZOFFSETFROM:+0000
TZOFFSETTO:+0000
TZNAME:UTC
DTSTART:20230101T000000
END:STANDARD
END:VTIMEZONE
BEGIN:VEVENT
DTSTART;TZID=UTC:20240927T100000
DTEND;TZID=UTC:20240927T140000
DTSTAMP:20260420T105524
CREATED:20240529T195330Z
LAST-MODIFIED:20240911T153608Z
UID:10000368-1727431200-1727445600@www.laet.org
SUMMARY:Bledsoe County Intake/Interview Sessions
DESCRIPTION:LEGAL AID OF EAST TENNESSEE  \nWILL CONDUCT LOCAL CLIENT INTAKE  INTERVIEW SESSIONS IN PIKEVILLE \n  \nBledsoe County Courthouse  \nFriday\, September 27\, 2024 \nBeginning at 10:00 am CT  \n  \nLegal Aid of East Tennessee is a FREE service for low-income Tennesseans and\nolder (60+) Tennesseans with civil (non-criminal) legal issues including\nconsumer\, housing\, veteran’s benefits\, government benefits\, domestic violence issues\, and adoption. \nFor more information call\nLegal Aid of East Tennessee’s Chattanooga branch at 423-756-4013
URL:https://www.laet.org/event/bledsoe-county-intake-interview-sessions-4/
LOCATION:Bledsoe County Courthouse\, TN\, United States
ATTACH;FMTTYPE=image/png:https://www.laet.org/wp-content/uploads/2024/05/PikevilleBledsoe-County-1-1.png
END:VEVENT
END:VCALENDAR