BEGIN:VCALENDAR
VERSION:2.0
PRODID:-//Legal Aid of East Tennessee - ECPv6.15.20//NONSGML v1.0//EN
CALSCALE:GREGORIAN
METHOD:PUBLISH
X-ORIGINAL-URL:https://www.laet.org
X-WR-CALDESC:Events for Legal Aid of East Tennessee
REFRESH-INTERVAL;VALUE=DURATION:PT1H
X-Robots-Tag:noindex
X-PUBLISHED-TTL:PT1H
BEGIN:VTIMEZONE
TZID:America/New_York
BEGIN:DAYLIGHT
TZOFFSETFROM:-0500
TZOFFSETTO:-0400
TZNAME:EDT
DTSTART:20230312T070000
END:DAYLIGHT
BEGIN:STANDARD
TZOFFSETFROM:-0400
TZOFFSETTO:-0500
TZNAME:EST
DTSTART:20231105T060000
END:STANDARD
BEGIN:DAYLIGHT
TZOFFSETFROM:-0500
TZOFFSETTO:-0400
TZNAME:EDT
DTSTART:20240310T070000
END:DAYLIGHT
BEGIN:STANDARD
TZOFFSETFROM:-0400
TZOFFSETTO:-0500
TZNAME:EST
DTSTART:20241103T060000
END:STANDARD
BEGIN:DAYLIGHT
TZOFFSETFROM:-0500
TZOFFSETTO:-0400
TZNAME:EDT
DTSTART:20250309T070000
END:DAYLIGHT
BEGIN:STANDARD
TZOFFSETFROM:-0400
TZOFFSETTO:-0500
TZNAME:EST
DTSTART:20251102T060000
END:STANDARD
END:VTIMEZONE
BEGIN:VEVENT
DTSTART;TZID=America/New_York:20240921T090000
DTEND;TZID=America/New_York:20240921T120000
DTSTAMP:20260420T104129
CREATED:20240829T194709Z
LAST-MODIFIED:20240830T125328Z
UID:10000379-1726909200-1726920000@www.laet.org
SUMMARY:Advanced Directive for Health Care Clinic
DESCRIPTION:This is your opportunity to meet with an attorney and both draft and execute advanced health care directives. You can also learn about Project Access and all it has to offer.\nNo preregistration required.
URL:https://www.laet.org/event/advanced-directive-for-health-care-clinic/
LOCATION:Knoxville Academy of Medicine\, 9032 Cross Park Drive\, Knoxville\, TN\, 37923\, United States
ATTACH;FMTTYPE=image/png:https://www.laet.org/wp-content/uploads/2024/08/Advanced-Directive-for-Health-Care-Clinic-3.png
END:VEVENT
END:VCALENDAR