BEGIN:VCALENDAR
VERSION:2.0
PRODID:-//Legal Aid of East Tennessee - ECPv6.15.20//NONSGML v1.0//EN
CALSCALE:GREGORIAN
METHOD:PUBLISH
X-WR-CALNAME:Legal Aid of East Tennessee
X-ORIGINAL-URL:https://www.laet.org
X-WR-CALDESC:Events for Legal Aid of East Tennessee
REFRESH-INTERVAL;VALUE=DURATION:PT1H
X-Robots-Tag:noindex
X-PUBLISHED-TTL:PT1H
BEGIN:VTIMEZONE
TZID:UTC
BEGIN:STANDARD
TZOFFSETFROM:+0000
TZOFFSETTO:+0000
TZNAME:UTC
DTSTART:20230101T000000
END:STANDARD
END:VTIMEZONE
BEGIN:VEVENT
DTSTART;TZID=UTC:20240912T140000
DTEND;TZID=UTC:20240912T160000
DTSTAMP:20260420T105405
CREATED:20240529T133857Z
LAST-MODIFIED:20240905T182816Z
UID:10000364-1726149600-1726156800@www.laet.org
SUMMARY:Rhea County Intake/Interview Sessions at Rhea County Justice Center
DESCRIPTION:LEGAL AID OF EAST TENNESSEE\nwill conduct free local client intake/interview sessions at the Rhea County Justice Center \n7824 Rhea County Hwy\, Dayton TN 37321\nThursday\, September 12\, 2024\nBeginning at 2:00pm ET \nLegal Aid of East Tennessee is a FREE service for low-income Tennesseans and\nolder (60+) Tennesseans with civil (non-criminal) legal issues including\nconsumer\, housing\, veteran’s benefits\, government benefits\, domestic violence issues\, and adoption. \nFor more information\, call\nour firm’s Chattanooga branch at 423-756-4013
URL:https://www.laet.org/event/rhea-county-intake-interview-sessions-at-rhea-county-justice-center-3/
LOCATION:Rhea County Justice Center\, 7824 Rhea County Hwy\, Dayton\, TN - Tennessee\, 37321
ATTACH;FMTTYPE=image/png:https://www.laet.org/wp-content/uploads/2024/05/DaytonRhea-County-Justice-Center-June-2024-1.png
END:VEVENT
END:VCALENDAR