BEGIN:VCALENDAR
VERSION:2.0
PRODID:-//Legal Aid of East Tennessee - ECPv6.15.20//NONSGML v1.0//EN
CALSCALE:GREGORIAN
METHOD:PUBLISH
X-ORIGINAL-URL:https://www.laet.org
X-WR-CALDESC:Events for Legal Aid of East Tennessee
REFRESH-INTERVAL;VALUE=DURATION:PT1H
X-Robots-Tag:noindex
X-PUBLISHED-TTL:PT1H
BEGIN:VTIMEZONE
TZID:UTC
BEGIN:STANDARD
TZOFFSETFROM:+0000
TZOFFSETTO:+0000
TZNAME:UTC
DTSTART:20230101T000000
END:STANDARD
END:VTIMEZONE
BEGIN:VEVENT
DTSTART;TZID=UTC:20240601T090000
DTEND;TZID=UTC:20240601T110000
DTSTAMP:20260420T030001
CREATED:20240203T001352Z
LAST-MODIFIED:20240203T001608Z
UID:10000322-1717232400-1717239600@www.laet.org
SUMMARY:Washington County Legal Advice Clinic
DESCRIPTION:Free Legal Advice Clinic \nMonthly on the first Saturday (unless a holiday\, then the second Saturday)\nLocation: Good Samaritan Ministries\, Inc. \nSponsored by the Washington County Bar Association
URL:https://www.laet.org/event/washington-county-legal-advice-clinic/2024-06-01/
LOCATION:Good Samaritan Ministries\, Inc.\, 100 North Roan Street\, Johnson City\, TN\, 37601\, United States
ATTACH;FMTTYPE=image/jpeg:https://www.laet.org/wp-content/uploads/2024/02/Wash-Co-Clinic.jpg
END:VEVENT
END:VCALENDAR