BEGIN:VCALENDAR
VERSION:2.0
PRODID:-//Legal Aid of East Tennessee - ECPv6.15.20//NONSGML v1.0//EN
CALSCALE:GREGORIAN
METHOD:PUBLISH
X-ORIGINAL-URL:https://www.laet.org
X-WR-CALDESC:Events for Legal Aid of East Tennessee
REFRESH-INTERVAL;VALUE=DURATION:PT1H
X-Robots-Tag:noindex
X-PUBLISHED-TTL:PT1H
BEGIN:VTIMEZONE
TZID:America/New_York
BEGIN:DAYLIGHT
TZOFFSETFROM:-0500
TZOFFSETTO:-0400
TZNAME:EDT
DTSTART:20230312T070000
END:DAYLIGHT
BEGIN:STANDARD
TZOFFSETFROM:-0400
TZOFFSETTO:-0500
TZNAME:EST
DTSTART:20231105T060000
END:STANDARD
BEGIN:DAYLIGHT
TZOFFSETFROM:-0500
TZOFFSETTO:-0400
TZNAME:EDT
DTSTART:20240310T070000
END:DAYLIGHT
BEGIN:STANDARD
TZOFFSETFROM:-0400
TZOFFSETTO:-0500
TZNAME:EST
DTSTART:20241103T060000
END:STANDARD
BEGIN:DAYLIGHT
TZOFFSETFROM:-0500
TZOFFSETTO:-0400
TZNAME:EDT
DTSTART:20250309T070000
END:DAYLIGHT
BEGIN:STANDARD
TZOFFSETFROM:-0400
TZOFFSETTO:-0500
TZNAME:EST
DTSTART:20251102T060000
END:STANDARD
END:VTIMEZONE
BEGIN:VEVENT
DTSTART;TZID=America/New_York:20240522T140000
DTEND;TZID=America/New_York:20240522T153000
DTSTAMP:20260420T030001
CREATED:20240510T172227Z
LAST-MODIFIED:20240510T172747Z
UID:10000363-1716386400-1716391800@www.laet.org
SUMMARY:Free Virtual 1.5 Dual-Hour CLE & Campaign Kick off
DESCRIPTION:As we launch our firm’s 2024 annual campaign in May\, we are thrilled to announce we are kicking it off with a FREE virtual 1.5 dual-hour CLE offering\, “The Top Ten Tennessee Litigation Mistakes (and How to Keep Them from Happening to You).”\n\n\nMay 22\, 2024\, via Zoom\, from 2:00 p.m. through 3:30 p.m.\n\nThis CLE has been approved by the Tennessee Commission on Continuing Legal Education for 1.5 dual hours.\nRegister ASAP\, as this free\, virtual CLE event will not be recorded.\n\nSimply CLICK HERE to register for this free\, virtual CLE
URL:https://www.laet.org/event/2891/
LOCATION:TN
ATTACH;FMTTYPE=image/png:https://www.laet.org/wp-content/uploads/2024/05/2024-Annual-Campaign-CLE-cover-art-3.png
END:VEVENT
END:VCALENDAR