BEGIN:VCALENDAR
VERSION:2.0
PRODID:-//Legal Aid of East Tennessee - ECPv6.15.20//NONSGML v1.0//EN
CALSCALE:GREGORIAN
METHOD:PUBLISH
X-WR-CALNAME:Legal Aid of East Tennessee
X-ORIGINAL-URL:https://www.laet.org
X-WR-CALDESC:Events for Legal Aid of East Tennessee
REFRESH-INTERVAL;VALUE=DURATION:PT1H
X-Robots-Tag:noindex
X-PUBLISHED-TTL:PT1H
BEGIN:VTIMEZONE
TZID:UTC
BEGIN:STANDARD
TZOFFSETFROM:+0000
TZOFFSETTO:+0000
TZNAME:UTC
DTSTART:20230101T000000
END:STANDARD
END:VTIMEZONE
BEGIN:VEVENT
DTSTART;TZID=UTC:20240410T120000
DTEND;TZID=UTC:20240410T140000
DTSTAMP:20260420T010332
CREATED:20240124T013049Z
LAST-MODIFIED:20240124T013049Z
UID:10000306-1712750400-1712757600@www.laet.org
SUMMARY:Free Legal Advice Clinic for Veterans
DESCRIPTION:Any veteran seeking legal help is encouraged to attend the free Legal Advice Clinic for Veterans on February 14\, 2024\, from 12:00 p.m. to 2:00 p.m. NOTE: This is an ADVICE-ONLY clinic. \nVeterans not able to attend in person are encouraged to use the telephone option. Preregistration is required for the telephone option\, and veterans are asked to call Legal Aid of East Tennessee at (865) 637-0484 to do so. \nThis is a general advice clinic\, and consultations will be provided for a wide variety of legal issues including family law\, landlord/tenant\, bankruptcy\, criminal defense\, consumer protection\, contract disputes\, child support\, and personal injury\, among other issues.
URL:https://www.laet.org/event/free-legal-advice-clinic-for-veterans-9/
LOCATION:Knox County Public Defender’s Community Law Office\, 1101 Liberty Street\, Knoxville\, TN\, 37919
ATTACH;FMTTYPE=image/png:https://www.laet.org/wp-content/uploads/2022/12/Untitled-design-3.png
END:VEVENT
END:VCALENDAR