BEGIN:VCALENDAR
VERSION:2.0
PRODID:-//Legal Aid of East Tennessee - ECPv6.15.20//NONSGML v1.0//EN
CALSCALE:GREGORIAN
METHOD:PUBLISH
X-ORIGINAL-URL:https://www.laet.org
X-WR-CALDESC:Events for Legal Aid of East Tennessee
REFRESH-INTERVAL;VALUE=DURATION:PT1H
X-Robots-Tag:noindex
X-PUBLISHED-TTL:PT1H
BEGIN:VTIMEZONE
TZID:UTC
BEGIN:STANDARD
TZOFFSETFROM:+0000
TZOFFSETTO:+0000
TZNAME:UTC
DTSTART:20230101T000000
END:STANDARD
END:VTIMEZONE
BEGIN:VEVENT
DTSTART;TZID=UTC:20240328T110000
DTEND;TZID=UTC:20240328T130000
DTSTAMP:20260419T230509
CREATED:20240314T000646Z
LAST-MODIFIED:20240314T000646Z
UID:10000346-1711623600-1711630800@www.laet.org
SUMMARY:Marion County Intake/Interview Sessions
DESCRIPTION:LEGAL AID OF EAST TENNESSEE  \n WILL CONDUCT LOCAL CLIENT INTAKE  INTERVIEW SESSIONS IN JASPER  \nat the  \nMarion County Justice Center   \nFriday\, March 28\, 2024   \nBeginning at 11:00 a.m. CST   \n  \nLegal Aid of East Tennessee is a FREE service for  \nlow income Tennesseans and senior adults with civil legal problems\, examples being consumer\, housing\, veteran’s/government benefits\, domestic violence issues\, and adoption.  \n   \nFor more information call Legal Aid’s Chattanooga office at 423-756-4013 
URL:https://www.laet.org/event/marion-county-intake-interview-sessions/
LOCATION:Marion County Justice Center\, TN\, United States
ATTACH;FMTTYPE=image/png:https://www.laet.org/wp-content/uploads/2024/03/Jasper-March-2024-1.png
END:VEVENT
END:VCALENDAR