BEGIN:VCALENDAR
VERSION:2.0
PRODID:-//Legal Aid of East Tennessee - ECPv6.15.20//NONSGML v1.0//EN
CALSCALE:GREGORIAN
METHOD:PUBLISH
X-WR-CALNAME:Legal Aid of East Tennessee
X-ORIGINAL-URL:https://www.laet.org
X-WR-CALDESC:Events for Legal Aid of East Tennessee
REFRESH-INTERVAL;VALUE=DURATION:PT1H
X-Robots-Tag:noindex
X-PUBLISHED-TTL:PT1H
BEGIN:VTIMEZONE
TZID:UTC
BEGIN:STANDARD
TZOFFSETFROM:+0000
TZOFFSETTO:+0000
TZNAME:UTC
DTSTART:20220101T000000
END:STANDARD
END:VTIMEZONE
BEGIN:VEVENT
DTSTART;TZID=UTC:20230420T110000
DTEND;TZID=UTC:20230420T130000
DTSTAMP:20260419T084500
CREATED:20230419T210537Z
LAST-MODIFIED:20230419T210537Z
UID:10000281-1681988400-1681995600@www.laet.org
SUMMARY:MARION COUNTY INTAKE - JUSTICE CENTER
DESCRIPTION:LEGAL AID OF EAST TENNESSEE  \n WILL CONDUCT LOCAL CLIENT INTAKE  INTERVIEW SESSIONS IN JASPER  \nat the  \nMarion County Justice Center   \nThursday\, April 20th\, 2023   \nBeginning at 11:00 am CST   \n  \nLegal Aid of East Tennessee is a FREE service for  \nlow income Tennesseans and senior Tennesseans with civil legal problems including  \nconsumer\, housing\, veteran’s benefits and government benefits issues such as  \n food stamps\, unemployment benefits\, and TennCare.   \n   \nFor more information call:  \nLegal Aid Chattanooga at 423-756-4013  \n  \nLegal Aid of East Tennessee\, Inc. is a nonprofit corporation funded by the  \nFederal Government\, through the Legal Services Corporation\, the State of Tennessee\, and  \nvarious other government and private grants and private contributions.  
URL:https://www.laet.org/event/marion-county-intake-justice-center-10/
LOCATION:Marion County Justice Center\, TN\, United States
END:VEVENT
BEGIN:VEVENT
DTSTART;TZID=UTC:20230420T150000
DTEND;TZID=UTC:20230420T170000
DTSTAMP:20260419T084500
CREATED:20230309T195316Z
LAST-MODIFIED:20230309T195316Z
UID:10000273-1682002800-1682010000@www.laet.org
SUMMARY:Chattanooga Expungement Clinic Attorneys Only Workday
DESCRIPTION:This event is a Chattanooga pro bono staple- volunteer attorneys will gather and review client records and apply for expungements\, fee waivers\, etc. This is an attorney-only event and client intake will be done prior at the Second Chance Month Job Fair on April 14th \n  \nLocation: \n5th Floor of the Edney Innovation Center \n1100 Market Street \nChattanooga\, TN \n  \nIf you would like to volunteer for this event\, please email md****@**et.org \n  \nThis event is in partnership with the following: \nChattanooga Bar Association Young Lawyer’s Division and the Tennessee Bar Association Young Lawyers Division
URL:https://www.laet.org/event/chattanooga-expungement-clinic-attorneys-only-workday/
LOCATION:TN
END:VEVENT
BEGIN:VEVENT
DTSTART;TZID=UTC:20230420T170000
DTEND;TZID=UTC:20230420T183000
DTSTAMP:20260419T084500
CREATED:20221214T235421Z
LAST-MODIFIED:20230104T192102Z
UID:10000233-1682010000-1682015400@www.laet.org
SUMMARY:Kingsport Bar Clinic
DESCRIPTION:General legal advice on civil matters (housing\, benefits\, taxes\, estate\, family\, property\, landlord/tenant\, contract\, etc.) \nThursday\, April 20\, 2023 \n5:00 pm to 6:30 pm \nVO Dobbins Community Center\, 301 Louis St\, Kingsport\, TN 37660
URL:https://www.laet.org/event/kingsport-bar-clinic-10/
LOCATION:TN
ATTACH;FMTTYPE=image/png:https://www.laet.org/wp-content/uploads/2022/12/Kingsport-Bar-Clinic-600-x-600-8.png
END:VEVENT
END:VCALENDAR