BEGIN:VCALENDAR
VERSION:2.0
PRODID:-//Legal Aid of East Tennessee - ECPv6.15.20//NONSGML v1.0//EN
CALSCALE:GREGORIAN
METHOD:PUBLISH
X-WR-CALNAME:Legal Aid of East Tennessee
X-ORIGINAL-URL:https://www.laet.org
X-WR-CALDESC:Events for Legal Aid of East Tennessee
REFRESH-INTERVAL;VALUE=DURATION:PT1H
X-Robots-Tag:noindex
X-PUBLISHED-TTL:PT1H
BEGIN:VTIMEZONE
TZID:UTC
BEGIN:STANDARD
TZOFFSETFROM:+0000
TZOFFSETTO:+0000
TZNAME:UTC
DTSTART:20220101T000000
END:STANDARD
END:VTIMEZONE
BEGIN:VEVENT
DTSTART;TZID=UTC:20230328T100000
DTEND;TZID=UTC:20230328T140000
DTSTAMP:20260419T082915
CREATED:20230314T182511Z
LAST-MODIFIED:20230314T182511Z
UID:10000279-1679997600-1680012000@www.laet.org
SUMMARY:BLEDSOE COUNTY INTAKE - JUSTICE CENTER
DESCRIPTION:LEGAL AID OF EAST TENNESSEE  \nWILL CONDUCT LOCAL CLIENT INTAKE  INTERVIEW SESSIONS IN PIKEVILLE \n  \nBledsoe County Courthouse  \nTuesday\, March 28th\, 2023 \nBeginning at 10:00 am CST  \n  \nLegal Aid of East Tennessee is a FREE service for low-income Tennesseans and senior Tennesseans with civil legal problems including consumer\, housing\, veteran’s benefits\, and government benefits issues such as food stamps\, unemployment benefits\, and TennCare.   \nFor more information call: Legal Aid Chattanooga at 423-756-4013  \nLegal Aid of East Tennessee\, Inc. is a nonprofit corporation funded by the Federal Government\, through the Legal Services Corporation\, the State of Tennessee\, and various other government and private grants and private contributions.  
URL:https://www.laet.org/event/bledsoe-county-intake-justice-center-9/
LOCATION:Bledsoe County Courthouse\, TN\, United States
ATTACH;FMTTYPE=image/png:https://www.laet.org/wp-content/uploads/2023/03/Flier-Bledsoe-3.png
END:VEVENT
BEGIN:VEVENT
DTSTART;TZID=UTC:20230328T110000
DTEND;TZID=UTC:20230328T130000
DTSTAMP:20260419T082915
CREATED:20230314T181636Z
LAST-MODIFIED:20230320T205629Z
UID:10000276-1680001200-1680008400@www.laet.org
SUMMARY:SEQUATCHIE COUNTY INTAKE - JUSTICE CENTER
DESCRIPTION:LEGAL AID OF EAST TENNESSEE\nWILL CONDUCT LOCAL CLIENT INTAKE INTERVIEW SESSIONS IN DUNLAP \nSequatchie County Chancery (Old) Courthouse \nTuesday\, March 28th\, 2023 \nBeginning at 11:00am CST \nLegal Aid of East Tennessee is a FREE service for low-income Tennesseans and\nsenior(60+) Tennesseans with civil (non-criminal) legal issues including\nconsumer\, housing\, veteran’s benefits and government benefits issues such a\nfood stamps\, unemployment benefits and TennCare. \nFor more information call:\nLegal Aid Chattanooga 423-756-4013 \nLegal Aid of East Tennessee\, Inc. is a nonprofit corporation funded by the Federal\nGovernment\, through the Legal Services Corporation\, the State of Tennessee\, and various\nother government and private grants and private contributions.
URL:https://www.laet.org/event/sequatchie-county-intake-justice-center-9/
LOCATION:TN
ATTACH;FMTTYPE=image/png:https://www.laet.org/wp-content/uploads/2023/03/Flier-Sequatchie-2.png
END:VEVENT
END:VCALENDAR