BEGIN:VCALENDAR
VERSION:2.0
PRODID:-//Legal Aid of East Tennessee - ECPv6.15.20//NONSGML v1.0//EN
CALSCALE:GREGORIAN
METHOD:PUBLISH
X-ORIGINAL-URL:https://www.laet.org
X-WR-CALDESC:Events for Legal Aid of East Tennessee
REFRESH-INTERVAL;VALUE=DURATION:PT1H
X-Robots-Tag:noindex
X-PUBLISHED-TTL:PT1H
BEGIN:VTIMEZONE
TZID:UTC
BEGIN:STANDARD
TZOFFSETFROM:+0000
TZOFFSETTO:+0000
TZNAME:UTC
DTSTART:20220101T000000
END:STANDARD
END:VTIMEZONE
BEGIN:VEVENT
DTSTART;TZID=UTC:20230310T140000
DTEND;TZID=UTC:20230310T160000
DTSTAMP:20260419T094810
CREATED:20230309T023659Z
LAST-MODIFIED:20230309T023715Z
UID:10000271-1678456800-1678464000@www.laet.org
SUMMARY:Polk County Expungement Clinic
DESCRIPTION:Location: \nPolk County Justice Center \n164 Industrial Access Cir \nBenton\, TN 37307
URL:https://www.laet.org/event/polk-county-expungement-clinic/
LOCATION:TN
ATTACH;FMTTYPE=image/png:https://www.laet.org/wp-content/uploads/2023/03/Polk-County-Expungement-Clinic-1.png
END:VEVENT
END:VCALENDAR