BEGIN:VCALENDAR
VERSION:2.0
PRODID:-//Legal Aid of East Tennessee - ECPv6.15.20//NONSGML v1.0//EN
CALSCALE:GREGORIAN
METHOD:PUBLISH
X-ORIGINAL-URL:https://www.laet.org
X-WR-CALDESC:Events for Legal Aid of East Tennessee
REFRESH-INTERVAL;VALUE=DURATION:PT1H
X-Robots-Tag:noindex
X-PUBLISHED-TTL:PT1H
BEGIN:VTIMEZONE
TZID:UTC
BEGIN:STANDARD
TZOFFSETFROM:+0000
TZOFFSETTO:+0000
TZNAME:UTC
DTSTART:20220101T000000
END:STANDARD
END:VTIMEZONE
BEGIN:VEVENT
DTSTART;TZID=UTC:20230119T140000
DTEND;TZID=UTC:20230119T170000
DTSTAMP:20260419T132620
CREATED:20230118T000306Z
LAST-MODIFIED:20230118T000431Z
UID:10000262-1674136800-1674147600@www.laet.org
SUMMARY:RHEA COUNTY INTAKE - JUSTICE CENTER
DESCRIPTION:LEGAL AID OF EAST TENNESSEE\nwill conduct local client intake interview sessions at the Rhea County Justice Center \n7824 Rhea County Hwy\, Dayton TN 37321\nThursday\, January 19th\, 2023\nBeginning at 2:00pm ET \nLegal Aid of East Tennessee is a FREE service for low-income Tennesseans and\nsenior (60+) Tennesseans with civil (non-criminal) legal issues including\nconsumer\, housing\, veteran’s benefits and government benefits issues such a\nfood stamps\, unemployment benefits and TennCare. \nFor more information call\nLegal Aid’s Chattanooga Office at 756-4013 \nLegal Aid of East Tennessee\, Inc. is a nonprofit corporation funded by the\nFederal Government\, through the Legal Services Corporation\, the State of Tennessee and\nvarious other government and private grants and private contributions.
URL:https://www.laet.org/event/rhea-county-intake-justice-center-7/
LOCATION:Rhea County Justice Center\, 7824 Rhea County Hwy\, Dayton\, TN - Tennessee\, 37321
END:VEVENT
BEGIN:VEVENT
DTSTART;TZID=UTC:20230119T170000
DTEND;TZID=UTC:20230119T183000
DTSTAMP:20260419T132620
CREATED:20221214T235259Z
LAST-MODIFIED:20230104T191831Z
UID:10000230-1674147600-1674153000@www.laet.org
SUMMARY:Kingsport Bar Clinic
DESCRIPTION:General legal advice on civil matters (housing\, benefits\, taxes\, estate\, family\, property\, landlord/tenant\, contract\, etc.) \nThursday\, January 19\, 2023 \n5:00 pm to 6:30 pm \nVO Dobbins Community Center\, 301 Louis St\, Kingsport\, TN 37660
URL:https://www.laet.org/event/kingsport-bar-clinic-7/
LOCATION:TN
ATTACH;FMTTYPE=image/png:https://www.laet.org/wp-content/uploads/2022/12/Kingsport-Bar-Clinic-600-x-600-8.png
END:VEVENT
END:VCALENDAR