BEGIN:VCALENDAR
VERSION:2.0
PRODID:-//Legal Aid of East Tennessee - ECPv6.15.20//NONSGML v1.0//EN
CALSCALE:GREGORIAN
METHOD:PUBLISH
X-ORIGINAL-URL:https://www.laet.org
X-WR-CALDESC:Events for Legal Aid of East Tennessee
REFRESH-INTERVAL;VALUE=DURATION:PT1H
X-Robots-Tag:noindex
X-PUBLISHED-TTL:PT1H
BEGIN:VTIMEZONE
TZID:UTC
BEGIN:STANDARD
TZOFFSETFROM:+0000
TZOFFSETTO:+0000
TZNAME:UTC
DTSTART:20210101T000000
END:STANDARD
END:VTIMEZONE
BEGIN:VEVENT
DTSTART;TZID=UTC:20221117T163000
DTEND;TZID=UTC:20221117T183000
DTSTAMP:20260419T163103
CREATED:20220706T223635Z
LAST-MODIFIED:20221019T200526Z
UID:10000216-1668702600-1668709800@www.laet.org
SUMMARY:Kingsport Bar Clinic
DESCRIPTION:General legal advice on civil matters (housing\, benefits\, taxes\, estate\, family\, property\, landlord/tenant\, contract\, etc.)
URL:https://www.laet.org/event/kingsport-bar-clinic-5/
LOCATION:USW Building\, 243 E Charlemont Avenue\, Kingsport\, Tennessee\, 37660\, United States
ATTACH;FMTTYPE=image/png:https://www.laet.org/wp-content/uploads/2022/07/White-Green-Minimalist-Modern-Spa-Flyer-2.png
END:VEVENT
END:VCALENDAR