BEGIN:VCALENDAR
VERSION:2.0
PRODID:-//Legal Aid of East Tennessee - ECPv6.15.20//NONSGML v1.0//EN
CALSCALE:GREGORIAN
METHOD:PUBLISH
X-ORIGINAL-URL:https://www.laet.org
X-WR-CALDESC:Events for Legal Aid of East Tennessee
REFRESH-INTERVAL;VALUE=DURATION:PT1H
X-Robots-Tag:noindex
X-PUBLISHED-TTL:PT1H
BEGIN:VTIMEZONE
TZID:UTC
BEGIN:STANDARD
TZOFFSETFROM:+0000
TZOFFSETTO:+0000
TZNAME:UTC
DTSTART:20210101T000000
END:STANDARD
END:VTIMEZONE
BEGIN:VEVENT
DTSTART;TZID=UTC:20221027T170000
DTEND;TZID=UTC:20221027T200000
DTSTAMP:20260419T183120
CREATED:20220623T210357Z
LAST-MODIFIED:20220826T191043Z
UID:10000139-1666890000-1666900800@www.laet.org
SUMMARY:Pro Bono Night - Chattanooga Area
DESCRIPTION:  \nSince 2010\, pro bono attorneys have donated their time on more than 10\,000 cases at Legal Aid of East Tennessee for low-income members of our community. These lawyers are an essential part of our mission — and likewise\, we provide a critical access point for those looking to give back.  Join us on this special night to celebrate pro bono work and all of the wonderful attorneys and community partners who make this possible. \nClick HERE for tickets.
URL:https://www.laet.org/event/pro-bono-night-chattanooga-area/
LOCATION:Chattanooga Whiskey Event Hall\, 890 Riverfront Pkwy\, Chattanooga\, TN\, 37402\, United States
ATTACH;FMTTYPE=image/png:https://www.laet.org/wp-content/uploads/2022/06/Pro-Bono-Squares-General-Calendar-8.png
END:VEVENT
END:VCALENDAR