BEGIN:VCALENDAR
VERSION:2.0
PRODID:-//Legal Aid of East Tennessee - ECPv6.15.20//NONSGML v1.0//EN
CALSCALE:GREGORIAN
METHOD:PUBLISH
X-WR-CALNAME:Legal Aid of East Tennessee
X-ORIGINAL-URL:https://www.laet.org
X-WR-CALDESC:Events for Legal Aid of East Tennessee
REFRESH-INTERVAL;VALUE=DURATION:PT1H
X-Robots-Tag:noindex
X-PUBLISHED-TTL:PT1H
BEGIN:VTIMEZONE
TZID:UTC
BEGIN:STANDARD
TZOFFSETFROM:+0000
TZOFFSETTO:+0000
TZNAME:UTC
DTSTART:20210101T000000
END:STANDARD
END:VTIMEZONE
BEGIN:VEVENT
DTSTART;TZID=UTC:20221020T140000
DTEND;TZID=UTC:20221020T170000
DTSTAMP:20260419T182735
CREATED:20221019T195615Z
LAST-MODIFIED:20221019T195723Z
UID:10000152-1666274400-1666285200@www.laet.org
SUMMARY:RHEA COUNTY INTAKE - JUSTICE CENTER
DESCRIPTION:LEGAL AID OF EAST TENNESSEE\nwill conduct local client intake interview sessions at the Rhea County Justice Center \n7824 Rhea County Hwy\, Dayton TN 37321\nThursday\, October 20th\, 2022\nBeginning at 2:00pm ET \nLegal Aid of East Tennessee is a FREE service for low-income Tennesseans and\nsenior (60+) Tennesseans with civil (non-criminal) legal issues including\nconsumer\, housing\, veteran’s benefits and government benefits issues such a\nfood stamps\, unemployment benefits and TennCare. \nFor more information call\nLegal Aid’s Chattanooga Office at 756-4013 \nLegal Aid of East Tennessee\, Inc. is a nonprofit corporation funded by the\nFederal Government\, through the Legal Services Corporation\, the State of Tennessee and\nvarious other government and private grants and private contributions.
URL:https://www.laet.org/event/rhea-county-intake-justice-center-5/
LOCATION:Rhea County Justice Center\, 7824 Rhea County Hwy\, Dayton\, TN - Tennessee\, 37321
END:VEVENT
BEGIN:VEVENT
DTSTART;TZID=UTC:20221020T170000
DTEND;TZID=UTC:20221020T200000
DTSTAMP:20260419T182735
CREATED:20220623T211057Z
LAST-MODIFIED:20220826T191026Z
UID:10000140-1666285200-1666296000@www.laet.org
SUMMARY:Pro Bono Night - Tri-Cities Area
DESCRIPTION:Since 2010\, pro bono attorneys have donated their time on more than 10\,000 cases at Legal Aid of East Tennessee for low-income members of our community. These lawyers are an essential part of our mission — and likewise\, we provide a critical access point for those looking to give back.  Join us on this special night to celebrate pro bono work and all of the wonderful attorneys and community partners who make this possible. \n  \nClick HERE for tickets.\n 
URL:https://www.laet.org/event/pro-bono-night-tri-cities-area/
LOCATION:BANQ Building\, 255 Broad St\, Kingport\, TN\, 37660\, United States
ATTACH;FMTTYPE=image/png:https://www.laet.org/wp-content/uploads/2022/06/Pro-Bono-Squares-General-Calendar-9.png
END:VEVENT
END:VCALENDAR