BEGIN:VCALENDAR
VERSION:2.0
PRODID:-//Legal Aid of East Tennessee - ECPv6.15.20//NONSGML v1.0//EN
CALSCALE:GREGORIAN
METHOD:PUBLISH
X-ORIGINAL-URL:https://www.laet.org
X-WR-CALDESC:Events for Legal Aid of East Tennessee
REFRESH-INTERVAL;VALUE=DURATION:PT1H
X-Robots-Tag:noindex
X-PUBLISHED-TTL:PT1H
BEGIN:VTIMEZONE
TZID:UTC
BEGIN:STANDARD
TZOFFSETFROM:+0000
TZOFFSETTO:+0000
TZNAME:UTC
DTSTART:20210101T000000
END:STANDARD
END:VTIMEZONE
BEGIN:VEVENT
DTSTART;TZID=UTC:20221001T090000
DTEND;TZID=UTC:20221001T120000
DTSTAMP:20260419T183037
CREATED:20220928T221650Z
LAST-MODIFIED:20220928T221650Z
UID:10000148-1664614800-1664625600@www.laet.org
SUMMARY:Free Clinic: Power of Attorney / Health Care Power of Attorney / Living Will
DESCRIPTION:Pre-registration is not required. First Come\, First Serve. \nThis is an advice clinic for topics such as power of attorney\, health care power of attorney\, and living will.
URL:https://www.laet.org/event/free-clinic-power-of-attorney-health-care-power-of-attorney-living-will/
LOCATION:Church of the Resurrection\, 917 Pond Road\, Loudon\, 37774\, United States
ATTACH;FMTTYPE=image/png:https://www.laet.org/wp-content/uploads/2022/09/Copy-of-10122-Clinic-Flyer.png
END:VEVENT
END:VCALENDAR