BEGIN:VCALENDAR
VERSION:2.0
PRODID:-//Legal Aid of East Tennessee - ECPv6.15.20//NONSGML v1.0//EN
CALSCALE:GREGORIAN
METHOD:PUBLISH
X-ORIGINAL-URL:https://www.laet.org
X-WR-CALDESC:Events for Legal Aid of East Tennessee
REFRESH-INTERVAL;VALUE=DURATION:PT1H
X-Robots-Tag:noindex
X-PUBLISHED-TTL:PT1H
BEGIN:VTIMEZONE
TZID:UTC
BEGIN:STANDARD
TZOFFSETFROM:+0000
TZOFFSETTO:+0000
TZNAME:UTC
DTSTART:20210101T000000
END:STANDARD
END:VTIMEZONE
BEGIN:VEVENT
DTSTART;TZID=UTC:20220910T090000
DTEND;TZID=UTC:20220910T120000
DTSTAMP:20260419T201800
CREATED:20220726T175816Z
LAST-MODIFIED:20220726T175816Z
UID:10000223-1662800400-1662811200@www.laet.org
SUMMARY:Free Debt Relief Clinic- Knoxville
DESCRIPTION:The Knoxville Bar Association and the United States Bankruptcy Court for the Eastern District of Tennessee\, in partnership with Legal Aid of East Tennessee (LAET) will host a Debt Relief Legal Advice Clinic for pre-screened individuals on Saturday\, September 10th\, beginning at 9:00 a.m. at the Public Defender’s Community Law Office (1101 Liberty Street\, Knoxville TN 37919). \nThis clinic is a great opportunity for debtors interested in exploring bankruptcy and other strategies to deal with their debt issues. This clinic is open to eligible residents of Knox\, Loudon\, Blount\, and Sevier Counties. \n  \nRegistration closes on September 2nd. To register\, please call LAET by Friday\, Sept 2nd at (865) 637-0484.
URL:https://www.laet.org/event/free-debt-relief-clinic-knoxville/
LOCATION:Knox County Public Defender’s Community Law Office\, 1101 Liberty Street\, Knoxville\, TN\, 37919
ATTACH;FMTTYPE=image/png:https://www.laet.org/wp-content/uploads/2022/07/Copy-of-Copy-of-Copy-of-Debt-Relief-Clinic-250-×-250-px-2.png
END:VEVENT
END:VCALENDAR