BEGIN:VCALENDAR
VERSION:2.0
PRODID:-//Legal Aid of East Tennessee - ECPv6.15.20//NONSGML v1.0//EN
CALSCALE:GREGORIAN
METHOD:PUBLISH
X-WR-CALNAME:Legal Aid of East Tennessee
X-ORIGINAL-URL:https://www.laet.org
X-WR-CALDESC:Events for Legal Aid of East Tennessee
REFRESH-INTERVAL;VALUE=DURATION:PT1H
X-Robots-Tag:noindex
X-PUBLISHED-TTL:PT1H
BEGIN:VTIMEZONE
TZID:UTC
BEGIN:STANDARD
TZOFFSETFROM:+0000
TZOFFSETTO:+0000
TZNAME:UTC
DTSTART:20210101T000000
END:STANDARD
END:VTIMEZONE
BEGIN:VEVENT
DTSTART;TZID=UTC:20220818T140000
DTEND;TZID=UTC:20220818T170000
DTSTAMP:20260419T220643
CREATED:20220809T202653Z
LAST-MODIFIED:20220809T202653Z
UID:10000146-1660831200-1660842000@www.laet.org
SUMMARY:RHEA COUNTY INTAKE - JUSTICE CENTER
DESCRIPTION:LEGAL AID OF EAST TENNESSEE\nwill conduct local client intake interview sessions at the Rhea County Justice Center \n7824 Rhea County Hwy\, Dayton TN 37321\nThursday\, August 18\, 2022\nBeginning at 2:00pm ET \nLegal Aid of East Tennessee is a FREE service for low-income Tennesseans and\nsenior (60+) Tennesseans with civil (non-criminal) legal issues including\nconsumer\, housing\, veteran’s benefits and government benefits issues such a\nfood stamps\, unemployment benefits and TennCare. \nFor more information call\nLegal Aid’s Chattanooga Office at 756-4013 \nLegal Aid of East Tennessee\, Inc. is a nonprofit corporation funded by the\nFederal Government\, through the Legal Services Corporation\, the State of Tennessee and\nvarious other government and private grants and private contributions.
URL:https://www.laet.org/event/rhea-county-intake-justice-center-4/
LOCATION:Rhea County Justice Center\, 7824 Rhea County Hwy\, Dayton\, TN - Tennessee\, 37321
ATTACH;FMTTYPE=image/png:https://www.laet.org/wp-content/uploads/2022/08/Flier-Rhea-3.png
END:VEVENT
BEGIN:VEVENT
DTSTART;TZID=UTC:20220818T163000
DTEND;TZID=UTC:20220818T183000
DTSTAMP:20260419T220643
CREATED:20220706T223433Z
LAST-MODIFIED:20220706T223709Z
UID:10000144-1660840200-1660847400@www.laet.org
SUMMARY:Kingsport Bar Clinic
DESCRIPTION:General legal advice on civil matters (housing\, benefits\, taxes\, estate\, family\, property\, landlord/tenant\, contract\, etc.)
URL:https://www.laet.org/event/kingsport-bar-clinic-2/
LOCATION:USW Building\, 243 E Charlemont Avenue\, Kingsport\, Tennessee\, 37660\, United States
ATTACH;FMTTYPE=image/png:https://www.laet.org/wp-content/uploads/2022/07/White-Green-Minimalist-Modern-Spa-Flyer-2.png
END:VEVENT
END:VCALENDAR