BEGIN:VCALENDAR
VERSION:2.0
PRODID:-//Legal Aid of East Tennessee - ECPv6.15.20//NONSGML v1.0//EN
CALSCALE:GREGORIAN
METHOD:PUBLISH
X-WR-CALNAME:Legal Aid of East Tennessee
X-ORIGINAL-URL:https://www.laet.org
X-WR-CALDESC:Events for Legal Aid of East Tennessee
REFRESH-INTERVAL;VALUE=DURATION:PT1H
X-Robots-Tag:noindex
X-PUBLISHED-TTL:PT1H
BEGIN:VTIMEZONE
TZID:UTC
BEGIN:STANDARD
TZOFFSETFROM:+0000
TZOFFSETTO:+0000
TZNAME:UTC
DTSTART:20210101T000000
END:STANDARD
END:VTIMEZONE
BEGIN:VEVENT
DTSTART;TZID=UTC:20220716T090000
DTEND;TZID=UTC:20220716T120000
DTSTAMP:20260420T000628
CREATED:20220706T220948Z
LAST-MODIFIED:20220706T220948Z
UID:10000142-1657962000-1657972800@www.laet.org
SUMMARY:Chattanooga FREE Legal Advice Clinic
DESCRIPTION:Legal Aid of East Tennessee and the Chattanooga Bar Association Young Lawyer’s Division are excited to bring you a FREE legal advice clinic on Saturday\, July 16th from 9am to 12pm at the Chattanooga Hamilton County Family Justice Center.\nAttorneys will be available to offer advice on a variety of civil legal issues including: adoption\, bankruptcy\, custody\, debt collection\, family law\, landlord-tenant\, social security\, wills\, worker’s comp.\, and more!
URL:https://www.laet.org/event/chattanooga-free-legal-advice-clinic/
LOCATION:Chattanooga Family Justice Center\, 5705 Uptain Road\, TN\, 3
ATTACH;FMTTYPE=image/png:https://www.laet.org/wp-content/uploads/2022/07/Copy-of-July-General-Advice-Clinic-2.png
END:VEVENT
END:VCALENDAR