BEGIN:VCALENDAR
VERSION:2.0
PRODID:-//Legal Aid of East Tennessee - ECPv6.15.20//NONSGML v1.0//EN
CALSCALE:GREGORIAN
METHOD:PUBLISH
X-WR-CALNAME:Legal Aid of East Tennessee
X-ORIGINAL-URL:https://www.laet.org
X-WR-CALDESC:Events for Legal Aid of East Tennessee
REFRESH-INTERVAL;VALUE=DURATION:PT1H
X-Robots-Tag:noindex
X-PUBLISHED-TTL:PT1H
BEGIN:VTIMEZONE
TZID:America/New_York
BEGIN:DAYLIGHT
TZOFFSETFROM:-0500
TZOFFSETTO:-0400
TZNAME:EDT
DTSTART:20240310T070000
END:DAYLIGHT
BEGIN:STANDARD
TZOFFSETFROM:-0400
TZOFFSETTO:-0500
TZNAME:EST
DTSTART:20241103T060000
END:STANDARD
BEGIN:DAYLIGHT
TZOFFSETFROM:-0500
TZOFFSETTO:-0400
TZNAME:EDT
DTSTART:20250309T070000
END:DAYLIGHT
BEGIN:STANDARD
TZOFFSETFROM:-0400
TZOFFSETTO:-0500
TZNAME:EST
DTSTART:20251102T060000
END:STANDARD
BEGIN:DAYLIGHT
TZOFFSETFROM:-0500
TZOFFSETTO:-0400
TZNAME:EDT
DTSTART:20260308T070000
END:DAYLIGHT
BEGIN:STANDARD
TZOFFSETFROM:-0400
TZOFFSETTO:-0500
TZNAME:EST
DTSTART:20261101T060000
END:STANDARD
END:VTIMEZONE
BEGIN:VEVENT
DTSTART;TZID=America/New_York:20250306T163000
DTEND;TZID=America/New_York:20250306T183000
DTSTAMP:20260420T140553
CREATED:20250213T192711Z
LAST-MODIFIED:20250213T192759Z
UID:3295-1741278600-1741285800@www.laet.org
SUMMARY:Virtual Name Change Clinic: Pre-registration REQUIRED by March 3\, 2025
DESCRIPTION:Virtual Name Change Clinic on March 6\, 2025. This is for all 26 counties in the LAET catchment area.\n\n\n\nNote: Pre-registration is REQUIRED by March 3\, 2025.\nPre-registration can be done over the phone (423.402.4766) or through the QR Code.\n\n\nThanks to our amazing partners for helping make this happen\, including the Tennessee Bar Association Young Lawyers Division\, the Chattanooga Bar Association Young Lawyers Division\, and the Chattanooga Trans Liberation Collective.
URL:https://www.laet.org/event/virtual-name-change-clinic-pre-registration-required-by-march-3-2025/
ATTACH;FMTTYPE=image/png:https://www.laet.org/wp-content/uploads/2025/02/Name-Change-w-CTLC.png
END:VEVENT
END:VCALENDAR