BEGIN:VCALENDAR
VERSION:2.0
PRODID:-//Legal Aid of East Tennessee - ECPv6.15.20//NONSGML v1.0//EN
CALSCALE:GREGORIAN
METHOD:PUBLISH
X-WR-CALNAME:Legal Aid of East Tennessee
X-ORIGINAL-URL:https://www.laet.org
X-WR-CALDESC:Events for Legal Aid of East Tennessee
REFRESH-INTERVAL;VALUE=DURATION:PT1H
X-Robots-Tag:noindex
X-PUBLISHED-TTL:PT1H
BEGIN:VTIMEZONE
TZID:UTC
BEGIN:STANDARD
TZOFFSETFROM:+0000
TZOFFSETTO:+0000
TZNAME:UTC
DTSTART:20230101T000000
END:STANDARD
END:VTIMEZONE
BEGIN:VEVENT
DTSTART;TZID=UTC:20240327T110000
DTEND;TZID=UTC:20240327T130000
DTSTAMP:20260419T230218
CREATED:20240314T002210Z
LAST-MODIFIED:20240314T002210Z
UID:2768-1711537200-1711544400@www.laet.org
SUMMARY:Sequatchie County Intake/Interview Sessions
DESCRIPTION:LEGAL AID OF EAST TENNESSEE\nWILL CONDUCT LOCAL CLIENT INTAKE INTERVIEW SESSIONS IN DUNLAP \nSequatchie County Chancery (Old) Courthouse \nWednesday\, March 27\, 2024 \nBeginning at 11:00 a.m. CT \nLegal Aid of East Tennessee is a FREE service for low-income Tennesseans and\nolder adults with civil legal problems\, examples being consumer\, housing\, veteran’s/government benefits\,\ndomestic violence issues\, and adoption.\nFor more information call Legal Aid’s Chattanooga office at 423-756-4013
URL:https://www.laet.org/event/sequatchie-county-intake-interview-sessions/
LOCATION:Sequatchie County Chancery Courthouse\, 22 Cherry Street\, Dunlap\, TN\, 37327\, United States
ATTACH;FMTTYPE=image/png:https://www.laet.org/wp-content/uploads/2024/03/SequatchieDunlap-March-2024.png
END:VEVENT
END:VCALENDAR